BEGIN:VCALENDAR
VERSION:2.0
PRODID:-//ChamberMaster//Event Calendar 2.0//EN
METHOD:PUBLISH
X-PUBLISHED-TTL:P3D
REFRESH-INTERVAL:P3D
CALSCALE:GREGORIAN
BEGIN:VEVENT
DTSTART:20190303T010000Z
DTEND:20190303T023000Z
X-MICROSOFT-CDO-ALLDAYEVENT:FALSE
SUMMARY:WEfish Open House
DESCRIPTION:Please join us!! Meet our new officers and board members\, learn what we did last year and our plans for this year. We will have light appetizers and beer/wine available for purchase. Great door prizes and several amazing raffle items. Great opportunity to join other folks for a casual gathering supporting our fishing industry.
X-ALT-DESC;FMTTYPE=text/html:<span style="caret-color: rgb(29\, 33\, 41)\; color: rgb(29\, 33\, 41)\; font-family: system-ui\, -apple-system\, BlinkMacSystemFont\, &quot\;.SFNSText-Regular&quot\;\, sans-serif\; font-size: 14px\; white-space: pre-wrap\; background-color: rgb(255\, 255\, 255)\;">Please join us!! Meet our new officers and board members\, learn what we did last year and our plans for this year. We will have light appetizers and beer/wine available for purchase. Great door prizes and several amazing raffle items. Great opportunity to join other folks for a casual gathering supporting our fishing industry. </span>
LOCATION:pin Westport Maritime Museum 2201 Westhaven Dr\, Westport\, Washington 98595
UID:e.26.11759
SEQUENCE:3
DTSTAMP:20260424T181333Z
URL:https://chamber.graysharbor.org/events/details/wefish-open-house-11759
END:VEVENT

END:VCALENDAR
