BEGIN:VCALENDAR
VERSION:2.0
PRODID:-//ChamberMaster//Event Calendar 2.0//EN
METHOD:PUBLISH
X-PUBLISHED-TTL:P3D
REFRESH-INTERVAL:P3D
CALSCALE:GREGORIAN
BEGIN:VEVENT
DTSTART;VALUE=DATE:20190817
DTEND;VALUE=DATE:20190819
TRANSP:TRANSPARENT
X-MICROSOFT-CDO-ALLDAYEVENT:TRUE
SUMMARY:Westport Art Festival
DESCRIPTION:Washington's coastal City of Westport will host the 20th annual Art Festival on Saturday August 11th and Sunday August 18th.\n\nHead out to Westport on August 17th-18th for a perfect weekend! There will be tons of great food vendors\, entertainment all day\, Saturday beer garden\, several returning favorite artists and LOTS of artists who are new with us this year! This is a wonderful\, family-friendly event in the picturesque port city of Westport.
X-ALT-DESC;FMTTYPE=text/html:<span style="font-size:14px\;"><span style="caret-color: rgb(29\, 33\, 41)\; color: rgb(29\, 33\, 41)\; font-family: system-ui\, -apple-system\, BlinkMacSystemFont\, &quot\;.SFNSText-Regular&quot\;\, sans-serif\;">Washington&rsquo\;s coastal City of Westport will host the 20th annual Art Festival on Saturday August 11th and Sunday August 18th.<br />\nHead out to Westport on August 17th-18th for a perfect weekend! There will be tons of great food vendors\, entertainment all day\, Saturday beer garden\, several returning favorite artists and LOTS of artists who are new with us this year! This is a wonderful\, family-friendly event in the picturesque port city of Westport.&nbsp\;</span></span>
LOCATION:Westport\, WA
UID:e.26.11773
SEQUENCE:3
DTSTAMP:20260424T090530Z
URL:https://chamber.graysharbor.org/events/details/westport-art-festival-11773
END:VEVENT

END:VCALENDAR
