BEGIN:VCALENDAR
VERSION:2.0
PRODID:-//ChamberMaster//Event Calendar 2.0//EN
METHOD:PUBLISH
X-PUBLISHED-TTL:P3D
REFRESH-INTERVAL:P3D
CALSCALE:GREGORIAN
BEGIN:VEVENT
DTSTART:20170818T170000Z
DTEND:20170821T230000Z
X-MICROSOFT-CDO-ALLDAYEVENT:FALSE
SUMMARY:Westport Art Festival
DESCRIPTION:2017 marks the 20th Anniversary of the Westport Art Festival\, and we're celebrating! With great things planned for the entire 4 day weekend of August 18-21\, it's not too early to think about including us in your getaway plans for the year. Make THIS your "Weekend At The Coast"!
X-ALT-DESC;FMTTYPE=text/html:2017 marks the 20th Anniversary of the Westport Art Festival\, and we&rsquo\;re celebrating! With great things planned for the entire 4 day weekend of August 18-21\, it&rsquo\;s not too early to think about including us in your getaway plans for the year. Make THIS your &ldquo\;<em>Weekend At The Coast</em>&rdquo\;!
LOCATION:Westport\, WA
UID:e.26.7606
SEQUENCE:3
DTSTAMP:20260425T230658Z
URL:https://chamber.graysharbor.org/events/details/westport-art-festival-7606
END:VEVENT

END:VCALENDAR
