BEGIN:VCALENDAR
VERSION:2.0
PRODID:-//ChamberMaster//Event Calendar 2.0//EN
METHOD:PUBLISH
X-PUBLISHED-TTL:P3D
REFRESH-INTERVAL:P3D
CALSCALE:GREGORIAN
BEGIN:VEVENT
DTSTART:20181223T020000Z
DTEND:20181223T040000Z
X-MICROSOFT-CDO-ALLDAYEVENT:FALSE
SUMMARY:Westport Concert: Norman Baker
DESCRIPTION:Join us\, as our winter indoor concert series continues\, for an evening featuring Norman Baker & The Backroads!\n\n\n\nNorman Baker and his band play homage to this fact by introducing new and old songs to as many communities as possible. Their new album utilizes undertones of pedal steel\, mandolin\, banjo\, upright bass\, clarinet\, and of course an onslaught of acoustic and electric guitars telling stories of loss\, loss prevention\, camping\, driving without cell phones\, childlike innocence\, home towns\, and walking till your shoes wear through. \n\n\n\nCheck out their music here: http://www.normanbaker.com/\n\n\n\nfree | open to the public | family + dog friendly
X-ALT-DESC;FMTTYPE=text/html:<span style="caret-color: rgb(29\, 33\, 41)\; color: rgb(29\, 33\, 41)\; font-family: system-ui\, -apple-system\, BlinkMacSystemFont\, &quot\;.SFNSText-Regular&quot\;\, sans-serif\; font-size: 14px\; background-color: rgb(255\, 255\, 255)\;">Join us\, as our winter indoor concert series continues\, for an evening featuring&nbsp\;</span><a href="https://www.facebook.com/normanbakermusic/" style="color: rgb(54\, 88\, 153)\; cursor: pointer\; text-decoration: none\; font-family: system-ui\, -apple-system\, BlinkMacSystemFont\, &quot\;.SFNSText-Regular&quot\;\, sans-serif\; font-size: 14px\;" target="_blank">Norman Baker &amp\; The Backroads</a><span style="caret-color: rgb(29\, 33\, 41)\; color: rgb(29\, 33\, 41)\; font-family: system-ui\, -apple-system\, BlinkMacSystemFont\, &quot\;.SFNSText-Regular&quot\;\, sans-serif\; font-size: 14px\; background-color: rgb(255\, 255\, 255)\;">!</span><br style="caret-color: rgb(29\, 33\, 41)\; color: rgb(29\, 33\, 41)\; font-family: system-ui\, -apple-system\, BlinkMacSystemFont\, &quot\;.SFNSText-Regular&quot\;\, sans-serif\; font-size: 14px\;" />\n<br style="caret-color: rgb(29\, 33\, 41)\; color: rgb(29\, 33\, 41)\; font-family: system-ui\, -apple-system\, BlinkMacSystemFont\, &quot\;.SFNSText-Regular&quot\;\, sans-serif\; font-size: 14px\;" />\n<span style="caret-color: rgb(29\, 33\, 41)\; color: rgb(29\, 33\, 41)\; font-family: system-ui\, -apple-system\, BlinkMacSystemFont\, &quot\;.SFNSText-Regular&quot\;\, sans-serif\; font-size: 14px\; background-color: rgb(255\, 255\, 255)\;">Norman Baker and his band play homage to this fact by introducing new and old songs to as many communities as possible. Their new album utilizes undertones of pedal steel\, mandolin\, banjo\, upright bass\, clarinet\, and of course an onslaught of acoustic and electric guitars telling stories of loss\, loss prevention\, camping\, driving without cell phones\, childlike innocence\, home towns\, and walking till your shoes wear through.&nbsp\;</span><br style="caret-color: rgb(29\, 33\, 41)\; color: rgb(29\, 33\, 41)\; font-family: system-ui\, -apple-system\, BlinkMacSystemFont\, &quot\;.SFNSText-Regular&quot\;\, sans-serif\; font-size: 14px\;" />\n<br style="caret-color: rgb(29\, 33\, 41)\; color: rgb(29\, 33\, 41)\; font-family: system-ui\, -apple-system\, BlinkMacSystemFont\, &quot\;.SFNSText-Regular&quot\;\, sans-serif\; font-size: 14px\;" />\n<span style="caret-color: rgb(29\, 33\, 41)\; color: rgb(29\, 33\, 41)\; font-family: system-ui\, -apple-system\, BlinkMacSystemFont\, &quot\;.SFNSText-Regular&quot\;\, sans-serif\; font-size: 14px\; background-color: rgb(255\, 255\, 255)\;">Check out their music here:&nbsp\;</span><a data-lynx-mode="hover" data-lynx-uri="https://l.facebook.com/l.php?u=http%3A%2F%2Fwww.normanbaker.com%2F%3Ffbclid%3DIwAR2NN9RPkUQfSeFGb9R4kYYr5RpY4gk5IXcPwleYbGH9hGFtTMYu_5s0A0w&amp\;h=AT0uZ2hyACBVqxi1pw-tm4WthcnVsYCnHOXGhkiIv8Qf1LQtqR9kiPb-xx_jbW3KPsX0wjHOmMpqQ0rislf2UX9uip4C3K-3doyKVPJIqm8QYe00xqnp_AOEIsPM3t3CMP36DjjRmg" href="http://www.normanbaker.com/?fbclid=IwAR2NN9RPkUQfSeFGb9R4kYYr5RpY4gk5IXcPwleYbGH9hGFtTMYu_5s0A0w" rel="nofollow noopener" style="color: rgb(54\, 88\, 153)\; cursor: pointer\; text-decoration: none\; font-family: system-ui\, -apple-system\, BlinkMacSystemFont\, &quot\;.SFNSText-Regular&quot\;\, sans-serif\; font-size: 14px\;" target="_blank">http://www.normanbaker.com/</a><br style="caret-color: rgb(29\, 33\, 41)\; color: rgb(29\, 33\, 41)\; font-family: system-ui\, -apple-system\, BlinkMacSystemFont\, &quot\;.SFNSText-Regular&quot\;\, sans-serif\; font-size: 14px\;" />\n<br style="caret-color: rgb(29\, 33\, 41)\; color: rgb(29\, 33\, 41)\; font-family: system-ui\, -apple-system\, BlinkMacSystemFont\, &quot\;.SFNSText-Regular&quot\;\, sans-serif\; font-size: 14px\;" />\n<span style="caret-color: rgb(29\, 33\, 41)\; color: rgb(29\, 33\, 41)\; font-family: system-ui\, -apple-system\, BlinkMacSystemFont\, &quot\;.SFNSText-Regular&quot\;\, sans-serif\; font-size: 14px\; background-color: rgb(255\, 255\, 255)\;">free | open to the public | family + dog friendly</span>
LOCATION:LOGE at The Sands Westport\, WA
UID:e.26.11374
SEQUENCE:3
DTSTAMP:20260424T210807Z
URL:https://chamber.graysharbor.org/events/details/westport-concert-norman-baker-11374
END:VEVENT

END:VCALENDAR
