BEGIN:VCALENDAR
VERSION:2.0
PRODID:-//ChamberMaster//Event Calendar 2.0//EN
METHOD:PUBLISH
X-PUBLISHED-TTL:P3D
REFRESH-INTERVAL:P3D
CALSCALE:GREGORIAN
BEGIN:VEVENT
DTSTART:20190705T050000Z
DTEND:20190705T060000Z
X-MICROSOFT-CDO-ALLDAYEVENT:FALSE
SUMMARY:Westport Fireworks Show
DESCRIPTION:After attending the Old Fashioned Fourth of July Celebration\, head to the Marina for the best firework display in Westport. The fireworks will be shot from firecracker point\, so plan to stake out your viewing spot near the Marina. The show begins at tarts at dusk (around 10   10:15pm). Bring some snacks and enjoy the show!
X-ALT-DESC;FMTTYPE=text/html:<span style="font-size:14px\;"><span style="caret-color: rgb(34\, 34\, 34)\; color: rgb(34\, 34\, 34)\;">After attending the Old Fashioned Fourth of July Celebration\, head to the Marina for the best firework display in Westport. The fireworks will be shot from firecracker point\, so plan to stake out your viewing spot near the Marina. The show begins at tarts at dusk (around 10 &ndash\; 10:15pm). Bring some snacks and enjoy the show!</span></span>
LOCATION:Westport\, WA
UID:e.26.12091
SEQUENCE:3
DTSTAMP:20260424T104140Z
URL:https://chamber.graysharbor.org/events/details/westport-fireworks-show-12091
END:VEVENT

END:VCALENDAR
