BEGIN:VCALENDAR
VERSION:2.0
PRODID:-//ChamberMaster//Event Calendar 2.0//EN
METHOD:PUBLISH
X-PUBLISHED-TTL:P3D
REFRESH-INTERVAL:P3D
CALSCALE:GREGORIAN
BEGIN:VEVENT
DTSTART:20260430T170000Z
DTEND:20260430T190000Z
X-MICROSOFT-CDO-ALLDAYEVENT:FALSE
SUMMARY:Westport Fresh Catch Community Discussion
DESCRIPTION:A Westport Fresh Catch community discussion is set for Thursday\, April 30 at 10 a.m. at McCausland Hall.\n\nThis will be a working discussion\, and all are welcome   fishermen\, markets\, restaurants\, and community members.\n\nLaunched in 2021\, Westport's Fresh Catch (WFC) is a partnership between the Westport Marina\, the city of Westport\, and the fishing community\, created to support local fishermen\, seafood tourism\, and the working waterfront.\n\nAs WFC enters its next phase\, the community is encouraged to reflect on what's worked\, where there's room to improve\, and what comes next. The conversation will be facilitated by Jacob P. Cravey of Tree Ring Consulting.
X-ALT-DESC;FMTTYPE=text/html:<p style="box-sizing: border-box\; margin: 0px 0px 1em\; color: rgb(34\, 34\, 34)\; font-family: &quot\;Open Sans&quot\;\, helvetica\, arial\, sans-serif\; background-color: rgb(255\, 255\, 255)\;">A Westport Fresh Catch community discussion is set for Thursday\, April 30 at 10 a.m. at McCausland Hall.</p>\n\n<p style="box-sizing: border-box\; margin: 0px 0px 1em\; color: rgb(34\, 34\, 34)\; font-family: &quot\;Open Sans&quot\;\, helvetica\, arial\, sans-serif\; background-color: rgb(255\, 255\, 255)\;">This will be a working discussion\, and all are welcome &mdash\; fishermen\, markets\, restaurants\, and community members.</p>\n\n<p style="box-sizing: border-box\; margin: 0px 0px 1em\; color: rgb(34\, 34\, 34)\; font-family: &quot\;Open Sans&quot\;\, helvetica\, arial\, sans-serif\; background-color: rgb(255\, 255\, 255)\;">Launched in 2021\, Westport&rsquo\;s Fresh Catch (WFC) is a partnership between the Westport Marina\, the city of Westport\, and the fishing community\, created to support local fishermen\, seafood tourism\, and the working waterfront.</p>\n\n<p style="box-sizing: border-box\; margin: 0px 0px 1em\; color: rgb(34\, 34\, 34)\; font-family: &quot\;Open Sans&quot\;\, helvetica\, arial\, sans-serif\; background-color: rgb(255\, 255\, 255)\;"><span style="font-size: 16px\;">As WFC enters its next phase\, the community is encouraged to reflect on what&rsquo\;s worked\, where there&rsquo\;s room to improve\, and what comes next. The conversation will be facilitated by Jacob P. Cravey of Tree Ring Consulting.</span></p>\n
LOCATION:McCausland Hall 2200 Nyhus St N Westport
UID:e.26.16798
SEQUENCE:3
DTSTAMP:20260423T191118Z
URL:https://chamber.graysharbor.org/events/details/westport-fresh-catch-community-discussion-16798
END:VEVENT

END:VCALENDAR
