BEGIN:VCALENDAR
VERSION:2.0
PRODID:-//ChamberMaster//Event Calendar 2.0//EN
METHOD:PUBLISH
X-PUBLISHED-TTL:P3D
REFRESH-INTERVAL:P3D
CALSCALE:GREGORIAN
BEGIN:VEVENT
DTSTART:20190829T223000Z
DTEND:20190830T000000Z
X-MICROSOFT-CDO-ALLDAYEVENT:FALSE
SUMMARY:Westport Marina Walking Tour
DESCRIPTION:The Westport Marina will offer walking tours of its busy and unique working waterfront this August.\n\nThese three 90-minute tours will feature a Marina overview\, followed by visits with commercial fishermen\, seafood processors\, the charter fishing fleet\, the Westport Maritime Museum\, and a visit to the Westport viewing tower.\n\nThe walking tours will be on August 15th\, 27th and 29th from 3:30 p.m. to 5 p.m.\n\nReservations are required. Call 360-533-9562 to reserve your spot. Comfortable\, closed-toe shoes are also required.
X-ALT-DESC;FMTTYPE=text/html:<p style="font-family: Arial\, sans-serif\; margin: 20px 0px\; caret-color: rgb(102\, 102\, 102)\;"><span style="font-size:14px\;"><font color="#000000" face="arial">The Westport Marina will offer walking tours of its busy and unique working waterfront this August.</font></span></p>\n\n<p style="font-family: Arial\, sans-serif\; margin: 20px 0px\; caret-color: rgb(102\, 102\, 102)\;"><span style="font-size:14px\;"><font color="#000000" face="arial">These three 90-minute tours will feature a Marina overview\, followed by visits with commercial fishermen\, seafood processors\, the charter fishing fleet\, the Westport Maritime Museum\, and a visit to the Westport viewing tower.</font></span></p>\n\n<p style="font-family: Arial\, sans-serif\; margin: 20px 0px\; caret-color: rgb(102\, 102\, 102)\;"><span style="font-size:14px\;"><font color="#000000" face="arial">The walking tours will be on August 15th\, 27th and&nbsp\;29th from 3:30 p.m. to 5 p.m.</font></span></p>\n\n<p style="font-family: Arial\, sans-serif\; margin: 20px 0px\; caret-color: rgb(102\, 102\, 102)\;"><span style="font-size:14px\;"><font color="#000000" face="arial">Reservations are required. Call 360-533-9562 to reserve your spot. Comfortable\, closed-toe shoes are also required.</font></span></p>\n
LOCATION:Westport Marina
UID:e.26.12143
SEQUENCE:3
DTSTAMP:20260424T104330Z
URL:https://chamber.graysharbor.org/events/details/westport-marina-walking-tour-12143
END:VEVENT

END:VCALENDAR
