BEGIN:VCALENDAR
VERSION:2.0
PRODID:-//ChamberMaster//Event Calendar 2.0//EN
METHOD:PUBLISH
X-PUBLISHED-TTL:P3D
REFRESH-INTERVAL:P3D
CALSCALE:GREGORIAN
BEGIN:VEVENT
DTSTART:20170922T070000Z
DTEND:20170924T050000Z
X-MICROSOFT-CDO-ALLDAYEVENT:FALSE
SUMMARY:Westport Maritime Festival
DESCRIPTION:Music\, food\, vendors\, family activity.
X-ALT-DESC;FMTTYPE=text/html:Music\, food\, vendors\, family activity.
LOCATION:Westport Maritime Museum grounds 2201 Westhaven Dr
UID:e.26.8218
SEQUENCE:3
DTSTAMP:20260425T230600Z
URL:https://chamber.graysharbor.org/events/details/westport-maritime-festival-8218
END:VEVENT

END:VCALENDAR
