BEGIN:VCALENDAR
VERSION:2.0
PRODID:-//ChamberMaster//Event Calendar 2.0//EN
METHOD:PUBLISH
X-PUBLISHED-TTL:P3D
REFRESH-INTERVAL:P3D
CALSCALE:GREGORIAN
BEGIN:VEVENT
DTSTART;VALUE=DATE:20190704
DTEND;VALUE=DATE:20190705
TRANSP:TRANSPARENT
X-MICROSOFT-CDO-ALLDAYEVENT:TRUE
SUMMARY:Westport Maritime Museum's Old Fashioned 4th
DESCRIPTION:Come on out this 4th of July for the Maritime Museums Old Fashioned 4th! \nThere will be vendors\, crafts\, music and food at the historic Westport Maritime Museum located at the marina. \n\nThe museum will be open with regular paid admission\, stop in and see the Destruction Island Lens and check out our newest Coast Guard exhibit room... USCG K-9 & SAR.
X-ALT-DESC;FMTTYPE=text/html:<span style="font-size: 16px\; caret-color: rgb(0\, 51\, 102)\; font-family: arial\;"><font color="#000000">Come on out this 4th of July for the Maritime Museums Old Fashioned 4th!&nbsp\;</font></span>\n<div style="font-family: Arial\, sans-serif\;"><span style="font-size: 16px\; caret-color: rgb(0\, 51\, 102)\; font-family: arial\;"><font color="#000000">There will be&nbsp\;</font></span><span style="color: rgb(0\, 0\, 0)\; caret-color: rgb(0\, 51\, 102)\; font-family: arial\; font-size: 16px\;">vendors\, crafts\, music and food at the historic Westport Maritime Museum located at the marina.&nbsp\;</span><br />\n<span style="caret-color: rgb(29\, 33\, 41)\; color: rgb(29\, 33\, 41)\; font-family: system-ui\, -apple-system\, BlinkMacSystemFont\, &quot\;.SFNSText-Regular&quot\;\, sans-serif\; font-size: 14px\; white-space: pre-wrap\;">The museum will be open with regular paid admission\, stop in and see the Destruction Island Lens and check out our newest Coast Guard exhibit room... USCG K-9 &amp\; SAR.</span></div>\n
LOCATION:Westport Maritme Museum 2201 Westhaven Dr. Westport\, WA
UID:e.26.11770
SEQUENCE:3
DTSTAMP:20260424T115255Z
URL:https://chamber.graysharbor.org/events/details/westport-maritime-museum-s-old-fashioned-4th-11770
END:VEVENT

END:VCALENDAR
