BEGIN:VCALENDAR
VERSION:2.0
PRODID:-//ChamberMaster//Event Calendar 2.0//EN
METHOD:PUBLISH
X-PUBLISHED-TTL:P3D
REFRESH-INTERVAL:P3D
CALSCALE:GREGORIAN
BEGIN:VEVENT
DTSTART:20171104T150000Z
DTEND:20171105T020000Z
X-MICROSOFT-CDO-ALLDAYEVENT:FALSE
SUMMARY:Westport Winery Holiday Open House
DESCRIPTION:Along with other local businesses Westport Winery Garden Resort will hold its annual Holiday Open House on Saturday\, November 4 from 8am to 7pm. Guests are invited to discover the new enclosed sunroom addition to the winery. This lovely new space under the 7KW solar array is perfect for sunny days year around with its passive solar heating and huge picture windows. There are still tables outside on the patio for those who prefer the full Northwest experience.\n\nOpen house visitors are invited to complimentary sampling of mulled wine in the tasting room. There is free sampling of pumpkin dip in the gift shop and cranberry orange shortbread from the winery's bakery. In addition\, the winery will offer its regular wine\, olive oil\, balsamic vinegar\, and gourmet food sampling throughout the store.
X-ALT-DESC;FMTTYPE=text/html:<p style="margin: 0px 0px 6px\; font-family: Helvetica\, Arial\, sans-serif\; color: rgb(29\, 33\, 41)\; font-size: 14px\; background-color: rgb(255\, 255\, 255)\;">Along with other local businesses Westport Winery Garden Resort will hold its annual Holiday Open House on Saturday\, November 4 from 8am to 7pm. Guests are invited to discover the new enclosed sunroom addition to the winery. This lovely new space under the 7KW solar array is perfect for sunny days year around with its passive solar heating and huge picture windows. There are still tables outside on the patio for those who prefer the full Northwest experience.</p>\n\n<p style="margin: 6px 0px\; font-family: Helvetica\, Arial\, sans-serif\; color: rgb(29\, 33\, 41)\; font-size: 14px\; background-color: rgb(255\, 255\, 255)\;">Open house visitors are invited to complimentary sampling of mulled wine in the tasting room. There is free sampling of pumpkin dip in the gift shop and cranberry orange shortbread from the winery&rsquo\;s bakery. In addition\, the winery will offer its regular wine\, olive oil\, balsamic vinegar\, and gourmet food sampling throughout the store.</p>\n
LOCATION:Westport Winery Garden Resort Aberdeen\, WA
UID:e.26.8335
SEQUENCE:3
DTSTAMP:20260425T181419Z
URL:https://chamber.graysharbor.org/events/details/westport-winery-holiday-open-house-8335
END:VEVENT

END:VCALENDAR
