BEGIN:VCALENDAR
VERSION:2.0
PRODID:-//ChamberMaster//Event Calendar 2.0//EN
METHOD:PUBLISH
X-PUBLISHED-TTL:P3D
REFRESH-INTERVAL:P3D
CALSCALE:GREGORIAN
BEGIN:VEVENT
DTSTART:20200912T210000Z
DTEND:20200912T230000Z
X-MICROSOFT-CDO-ALLDAYEVENT:FALSE
SUMMARY:Westport Winery Mermaid Museum Groundbreaking Ceremony
DESCRIPTION:A groundbreaking ceremony for the International Mermaid Museum will be held Saturday from 2 to 4 p.m. at the Westport Winery Garden Resort.\n\nThe 3\,888-square-foot museum will be built on the opposite side of the patio from the restaurant/winery. Upon completion next spring\, it will educate visitors about ocean ecology immersed in mermaid mythology\, according to founder Kim Roberts.\n\n\n\nDuring Saturday's event\, Una the Mermaid will greet visitors from her 900-gallon freshwater tank.\n\nAll attendees on Saturday will be required to wear masks and observe social distancing protocol during the outdoor festivities.
X-ALT-DESC;FMTTYPE=text/html:<p style="box-sizing: inherit\; margin: 0px 0px 1.5rem\; padding: 0px\; font-size: 1.125rem\; line-height: 1.875rem\; text-rendering: optimizeLegibility\; max-width: 640px\; width: 640px\; caret-color: rgb(49\, 44\, 45)\; color: rgb(49\, 44\, 45)\; font-family: &quot\;Open Sans&quot\;\, &quot\;Helvetica Neue&quot\;\, Helvetica\, Roboto\, Arial\, sans-serif\;"><span style="font-size:14px\;"><span style="font-family:arial\;">A groundbreaking ceremony for the International Mermaid Museum will be held Saturday from 2 to 4 p.m. at the Westport Winery Garden Resort.</span></span></p>\n\n<p style="box-sizing: inherit\; margin: 0px 0px 1.5rem\; padding: 0px\; font-size: 1.125rem\; line-height: 1.875rem\; text-rendering: optimizeLegibility\; max-width: 640px\; width: 640px\; caret-color: rgb(49\, 44\, 45)\; color: rgb(49\, 44\, 45)\; font-family: &quot\;Open Sans&quot\;\, &quot\;Helvetica Neue&quot\;\, Helvetica\, Roboto\, Arial\, sans-serif\;"><span style="font-size:14px\;"><span style="font-family:arial\;">The 3\,888-square-foot museum will be built on the opposite side of the patio from the restaurant/winery. Upon completion next spring\, it will educate visitors about ocean ecology immersed in mermaid mythology\, according to founder Kim Roberts.<br />\n<br />\n<span style="caret-color: rgb(49\, 44\, 45)\; color: rgb(49\, 44\, 45)\; background-color: rgb(254\, 254\, 254)\;">During Saturday&rsquo\;s event\, Una the Mermaid will greet visitors from her 900-gallon freshwater tank.</span></span></span></p>\n\n<p style="box-sizing: inherit\; margin: 0px 0px 1.5rem\; padding: 0px\; font-size: 1.125rem\; line-height: 1.875rem\; text-rendering: optimizeLegibility\; max-width: 640px\; width: 640px\; caret-color: rgb(49\, 44\, 45)\; color: rgb(49\, 44\, 45)\; font-family: &quot\;Open Sans&quot\;\, &quot\;Helvetica Neue&quot\;\, Helvetica\, Roboto\, Arial\, sans-serif\;"><strong><span style="font-size:14px\;"><span style="font-family:arial\;">All attendees on Saturday will be required to wear masks and observe social distancing protocol during the outdoor festivities.</span></span></strong></p>\n
LOCATION:Westport Winery 1 S Arbor Rd Aberdeen\, WA
UID:e.26.12502
SEQUENCE:3
DTSTAMP:20260424T090412Z
URL:https://chamber.graysharbor.org/events/details/westport-winery-mermaid-museum-groundbreaking-ceremony-12502
END:VEVENT

END:VCALENDAR
