BEGIN:VCALENDAR
VERSION:2.0
PRODID:-//ChamberMaster//Event Calendar 2.0//EN
METHOD:PUBLISH
X-PUBLISHED-TTL:P3D
REFRESH-INTERVAL:P3D
CALSCALE:GREGORIAN
BEGIN:VEVENT
DTSTART:20190617T010000Z
DTEND:20190617T030000Z
X-MICROSOFT-CDO-ALLDAYEVENT:FALSE
SUMMARY:Westport Winery Murder Mystery Dinner
DESCRIPTION:Westport Winery will host one of its popular murder mystery dinners on Father's Day\, June 16 at 6pm. In Dead Man's Chest the cast of characters are rough and unpolished pirates of various ilk. Guests are invited to join in donning costumes\, but it is not required. Guests are tasked with solving the mystery of who "dunnit".\n\nTo go with the evening's theme the dinner menu will include Yo-Ho-Oat Rolls\, Salmagundi Pirate Salad\, Roasted Turkey Leg\, Golden Coin Carrots\, Scallop Potatoes and Berried Treasure Trifle. The price to attend this dinner is $49.95 per person and includes the gratuity but does not include beverages. Payment for the dinner is required at the time of reservation as space is limited. Grog and other libations are available for purchase during the pirate ball. For more information or reservations call the winery at 360-648-2224 between 8am and 7pm. Online reservations are not available.
X-ALT-DESC;FMTTYPE=text/html:<p style="font-family: Arial\, sans-serif\; caret-color: rgb(34\, 34\, 34)\; color: rgb(34\, 34\, 34)\; margin-left: 41.75pt\;"><span style="font-size:14px\;"><span style="font-family:arial\;"><span style="color: black\;">Westport Winery will host one of its popular murder mystery dinners on Father&rsquo\;s Day\, June 16 at 6pm. In&nbsp\;<i>Dead Man&rsquo\;s Chest</i>&nbsp\;the cast of characters are rough and unpolished pirates of various ilk. Guests are invited to join in donning costumes\, but it is not required. Guests are tasked with solving the mystery of who &ldquo\;dunnit&rdquo\;.</span></span></span></p>\n\n<p style="font-family: Arial\, sans-serif\; caret-color: rgb(34\, 34\, 34)\; color: rgb(34\, 34\, 34)\; margin-left: 41.75pt\;"><span style="font-size:14px\;"><span style="font-family:arial\;"><span style="color: black\;">To go with the evening&rsquo\;s theme the dinner menu will include Yo-Ho-Oat Rolls\, Salmagundi Pirate Salad\, Roasted Turkey Leg\, Golden Coin Carrots\, Scallop Potatoes and Berried Treasure Trifle. The price to attend this dinner is $49.95 per person and includes the gratuity but does not include beverages. Payment for the dinner is required at the time of reservation as space is limited. Grog and other libations are available for purchase during the pirate ball. For more information or reservations call the winery at 360-648-2224 between 8am and 7pm. Online reservations are not available.</span></span></span></p>\n
LOCATION:Westport Winery Aberdeen\, WA
UID:e.26.12027
SEQUENCE:3
DTSTAMP:20260424T115311Z
URL:https://chamber.graysharbor.org/events/details/westport-winery-murder-mystery-dinner-12027
END:VEVENT

END:VCALENDAR
