BEGIN:VCALENDAR
VERSION:2.0
PRODID:-//ChamberMaster//Event Calendar 2.0//EN
METHOD:PUBLISH
X-PUBLISHED-TTL:P3D
REFRESH-INTERVAL:P3D
CALSCALE:GREGORIAN
BEGIN:VEVENT
DTSTART;VALUE=DATE:20190920
DTEND;VALUE=DATE:20190923
TRANSP:TRANSPARENT
X-MICROSOFT-CDO-ALLDAYEVENT:TRUE
SUMMARY:Whale of a Quilt Show
DESCRIPTION:The Sea-Pal Quilters of Ocean Shores\, "Whale of a Quilt Show" offers boutique vendors\, handmade quilts\, demonstrations\, and quilted items. The show is judged and prizes are awarded. Free admission\, donations welcome.
X-ALT-DESC;FMTTYPE=text/html:<span style="background-color:rgb(255\, 255\, 255)\; color:rgb(128\, 128\, 128)\; font-family:lato\,sans-serif\; font-size:17.008px">The Sea-Pal Quilters of Ocean Shores\, &quot\;Whale of a Quilt Show&quot\; offers boutique vendors\, handmade quilts\, demonstrations\, and quilted items. The show is judged and prizes are awarded. Free admission\, donations welcome.</span>
LOCATION:Ocean Shores Convention Center 120 W Chance A La Mer Ave Ocean Shores\, WA 98569
UID:e.26.11873
SEQUENCE:3
DTSTAMP:20260424T090827Z
URL:https://chamber.graysharbor.org/events/details/whale-of-a-quilt-show-09-20-2019-11873
END:VEVENT

END:VCALENDAR
