BEGIN:VCALENDAR
VERSION:2.0
PRODID:-//ChamberMaster//Event Calendar 2.0//EN
METHOD:PUBLISH
X-PUBLISHED-TTL:P3D
REFRESH-INTERVAL:P3D
CALSCALE:GREGORIAN
BEGIN:VEVENT
DTSTART;VALUE=DATE:20170915
DTEND;VALUE=DATE:20170918
TRANSP:TRANSPARENT
X-MICROSOFT-CDO-ALLDAYEVENT:TRUE
SUMMARY:Whale of a Quilt Show
DESCRIPTION:Hourly door prizes\, everyday\n	\n	Demonstrations\n	\n	\n	Great vendors & shopping galore\n	\n	\n	Sea Pal Quilters Unique Boutique\n	\n	\n	Vote for your favorite quilts\n	\n	\n	Purchase your raffle quilt tickets
X-ALT-DESC;FMTTYPE=text/html:<ul>\n	<li><span style="font-size: 14px\;"><span class="color_2"><span style="font-family: tahoma\,tahoma-w01-regular\,tahoma-w02-regular\,tahoma-w10-regular\,tahoma-w15--regular\,tahoma-w99-regular\,sans-serif\;">Hourly door prizes\, everyday</span></span></span></li>\n	<li>\n	<p class="font_8" style="font-size: 24px\;"><span style="font-size: 14px\;"><span class="color_2"><span style="font-family: tahoma\,tahoma-w01-regular\,tahoma-w02-regular\,tahoma-w10-regular\,tahoma-w15--regular\,tahoma-w99-regular\,sans-serif\;">Demonstrations</span></span></span></p>\n	</li>\n	<li>\n	<p class="font_8" style="font-size: 24px\;"><span style="font-size: 14px\;"><span class="color_2"><span style="font-family: tahoma\,tahoma-w01-regular\,tahoma-w02-regular\,tahoma-w10-regular\,tahoma-w15--regular\,tahoma-w99-regular\,sans-serif\;">Great vendors &amp\; shopping galore</span></span></span></p>\n	</li>\n	<li>\n	<p class="font_8" style="font-size: 24px\;"><span style="font-size: 14px\;"><span class="color_2"><span style="font-family: tahoma\,tahoma-w01-regular\,tahoma-w02-regular\,tahoma-w10-regular\,tahoma-w15--regular\,tahoma-w99-regular\,sans-serif\;">Sea Pal Quilters Unique Boutique</span></span></span></p>\n	</li>\n	<li>\n	<p class="font_8" style="font-size: 24px\;"><span style="font-size: 14px\;"><span class="color_2"><span style="font-family: tahoma\,tahoma-w01-regular\,tahoma-w02-regular\,tahoma-w10-regular\,tahoma-w15--regular\,tahoma-w99-regular\,sans-serif\;">Vote for your favorite quilts</span></span></span></p>\n	</li>\n	<li>\n	<p class="font_8" style="font-size: 24px\;"><span style="font-size: 14px\;"><span class="color_2"><span style="font-family: tahoma\,tahoma-w01-regular\,tahoma-w02-regular\,tahoma-w10-regular\,tahoma-w15--regular\,tahoma-w99-regular\,sans-serif\;">Purchase your raffle quilt tickets</span></span></span></p>\n	</li>\n</ul>\n
LOCATION:Ocean Shores Convention Center Ocean Shores\, WA
UID:e.26.7629
SEQUENCE:3
DTSTAMP:20260425T214051Z
URL:https://chamber.graysharbor.org/events/details/whale-of-a-quilt-show-7629
END:VEVENT

END:VCALENDAR
