BEGIN:VCALENDAR
VERSION:2.0
PRODID:-//ChamberMaster//Event Calendar 2.0//EN
METHOD:PUBLISH
X-PUBLISHED-TTL:P3D
REFRESH-INTERVAL:P3D
CALSCALE:GREGORIAN
BEGIN:VEVENT
DTSTART:20201106T210000Z
DTEND:20201106T220000Z
X-MICROSOFT-CDO-ALLDAYEVENT:FALSE
SUMMARY:What Can GHC Do For Me?
DESCRIPTION:An overview of the degrees\, programs\, and certificates available at Grays Harbor College.
X-ALT-DESC;FMTTYPE=text/html:<div class="kvgmc6g5 cxmmr5t8 oygrvhab hcukyx3x c1et5uql" style="word-wrap: break-word\; margin: 0px\; font-family: system-ui\, -apple-system\, BlinkMacSystemFont\, &quot\;.SFNSText-Regular&quot\;\, sans-serif\; caret-color: rgb(5\, 5\, 5)\; color: rgb(5\, 5\, 5)\; font-size: 15px\;">An overview of the degrees\, programs\, and certificates available at Grays Harbor College.&nbsp\;</div>\n
LOCATION:Join Zoom Meeting https://us02web.zoom.us/j/84282911668... Meeting ID: 842 8291 1668 Passcode: 2b2fqJ
UID:e.26.12528
SEQUENCE:3
DTSTAMP:20260424T073415Z
URL:https://chamber.graysharbor.org/events/details/what-can-ghc-do-for-me-12528
END:VEVENT

END:VCALENDAR
