BEGIN:VCALENDAR
VERSION:2.0
PRODID:-//ChamberMaster//Event Calendar 2.0//EN
METHOD:PUBLISH
X-PUBLISHED-TTL:P3D
REFRESH-INTERVAL:P3D
CALSCALE:GREGORIAN
BEGIN:VEVENT
DTSTART:20171017T210000Z
DTEND:20171017T230000Z
X-MICROSOFT-CDO-ALLDAYEVENT:FALSE
SUMMARY:What Cultural Traditions Are Alive in Aberdeen?
DESCRIPTION:Aberdeen area residents are invited to learn about and discuss cultural traditions in the city and statewide at a community meeting. The feedback will inform a new Center for Washington Cultural Traditions\, a statewide program being built as a partnership between nonprofits Humanities Washington and the Washington State Arts Commission/ArtsWA. What is folklife\, and what are traditional arts? They are activities and objects that are inseparable from a cultural community. They are expressions of peoples' heritage and help tell their story: foods\, occupations\, crafts\, traditional medicine\, storytelling\, music\, and more. The Center will support tradition bearers throughout the state\, interpret the state's rich cultural heritage\, conduct meaningful research\, and create a range of innovative media and programming. Aberdeen area residents are encouraged to join Humanities Washington and ArtsWA at this free community meeting to:   Discuss some of Aberdeen and Washington State's many cultural traditions with community leaders\, tradition bearers\, the Center's Director.   Learn about the development of the Center\, and plans for its future.   Learn about networks supporting Washington communities' heritage.   Share your ideas and questions.   Help the Center create strong partnerships and effective programming that honors the state's diverse past\, shared present\, and collective future. No registration is required to attend. For more information about the event itself\, contact: Kristin Sullivan\, Director\, Center for Washington Cultural Traditions: kristin@humanities.org | (206) 682-1770 ext. 107 or visit https://www.humanities.org/center-washington-cultural-traditions/
X-ALT-DESC;FMTTYPE=text/html:Aberdeen area residents are invited to learn about and discuss cultural traditions in the city and statewide at a community meeting. The feedback will inform a new Center for Washington Cultural Traditions\, a statewide program being built as a partnership between nonprofits Humanities Washington and the Washington State Arts Commission/ArtsWA. What is folklife\, and what are traditional arts? They are activities and objects that are inseparable from a cultural community. They are expressions of peoples&#39\; heritage and help tell their story: foods\, occupations\, crafts\, traditional medicine\, storytelling\, music\, and more. The Center will support tradition bearers throughout the state\, interpret the state&rsquo\;s rich cultural heritage\, conduct meaningful research\, and create a range of innovative media and programming. Aberdeen area residents are encouraged to join Humanities Washington and ArtsWA at this free community meeting to: &bull\; Discuss some of Aberdeen and Washington State&rsquo\;s many cultural traditions with community leaders\, tradition bearers\, the Center&rsquo\;s Director. &bull\; Learn about the development of the Center\, and plans for its future. &bull\; Learn about networks supporting Washington communities&rsquo\; heritage. &bull\; Share your ideas and questions. &bull\; Help the Center create strong partnerships and effective programming that honors the state&rsquo\;s diverse past\, shared present\, and collective future. No registration is required to attend. For more information about the event itself\, contact: Kristin Sullivan\, Director\, Center for Washington Cultural Traditions: kristin@humanities.org | (206) 682-1770 ext. 107 or visit https://www.humanities.org/center-washington-cultural-traditions/
LOCATION:Aberdeen Museum of History
UID:e.26.8059
SEQUENCE:3
DTSTAMP:20260425T201429Z
URL:https://chamber.graysharbor.org/events/details/what-cultural-traditions-are-alive-in-aberdeen-8059
END:VEVENT

END:VCALENDAR
