BEGIN:VCALENDAR
VERSION:2.0
PRODID:-//ChamberMaster//Event Calendar 2.0//EN
METHOD:PUBLISH
X-PUBLISHED-TTL:P3D
REFRESH-INTERVAL:P3D
CALSCALE:GREGORIAN
BEGIN:VEVENT
DTSTART:20190501T200000Z
DTEND:20190501T210000Z
X-MICROSOFT-CDO-ALLDAYEVENT:FALSE
SUMMARY:Willapa Bay Oyster Co. Ribbon Cutting
DESCRIPTION:GGHI will be having a ribbon cutting for a new business in Tokeland called Willapa Bay Oyster Co. next Wednesday\, May 1st at 1 pm! They are located at 4115 WA-105 (behind the Georgetown Chevron Gas Station) in Tokeland\, WA.\n\nAt this event\, GGHI will be partnering up with Willapa Bay Enterprises.\n\nThis will also be a celebration for Shoalwater Bay Casino's 2nd year anniversary of their remodel!
X-ALT-DESC;FMTTYPE=text/html:<p style="caret-color: rgb(34\, 34\, 34)\; color: rgb(34\, 34\, 34)\; font-family: Arial\, Helvetica\, sans-serif\;"><span style="font-size: 9.5pt\; font-family: Arial\, sans-serif\;">GGHI will be having a ribbon cutting for a new business in Tokeland called Willapa Bay Oyster Co. next Wednesday\, May 1<sup>st</sup>&nbsp\;at 1&nbsp\;pm! They are located at&nbsp\;4115 WA-105 (behind the Georgetown Chevron Gas Station)&nbsp\;in Tokeland\, WA.</span></p>\n\n<p style="caret-color: rgb(34\, 34\, 34)\; color: rgb(34\, 34\, 34)\; font-family: Arial\, Helvetica\, sans-serif\;"><span style="font-size: 9.5pt\; font-family: Arial\, sans-serif\;">At this event\, GGHI will be&nbsp\;partnering up with Willapa Bay Enterprises.</span></p>\n\n<p style="caret-color: rgb(34\, 34\, 34)\; color: rgb(34\, 34\, 34)\; font-family: Arial\, Helvetica\, sans-serif\;"><span style="font-size: 9.5pt\; font-family: Arial\, sans-serif\;">This will also be a celebration for&nbsp\;Shoalwater Bay Casino&#39\;s 2nd year anniversary of&nbsp\;their&nbsp\;remodel!&nbsp\;</span></p>\n
LOCATION:Willapa Bay Oyster Co. 4115 WA-105 (behind the Georgetown Chevron Gas Station) Tokeland\, WA.
UID:e.26.11975
SEQUENCE:3
DTSTAMP:20260424T132946Z
URL:https://chamber.graysharbor.org/events/details/willapa-bay-oyster-co-ribbon-cutting-11975
END:VEVENT

END:VCALENDAR
