BEGIN:VCALENDAR
VERSION:2.0
PRODID:-//ChamberMaster//Event Calendar 2.0//EN
METHOD:PUBLISH
X-PUBLISHED-TTL:P3D
REFRESH-INTERVAL:P3D
CALSCALE:GREGORIAN
BEGIN:VEVENT
DTSTART:20190615T170000Z
DTEND:20190615T200000Z
X-MICROSOFT-CDO-ALLDAYEVENT:FALSE
SUMMARY:William Brookshire Bicycle Rodeo
DESCRIPTION:Every June the Montesano Police Department teams up with the Montesano Community to hold the William Brookshire Bike Rodeo. With safety in mind\, every child that attend gets a new bike helmet\, and other safety items along with the opportunity in riding through an obstacle course testing their bicycle safety. If you are interested in donating to this great community outreach program contact the Montesano Police Department at 249-1031.
X-ALT-DESC;FMTTYPE=text/html:<span style="caret-color: rgb(29\, 33\, 41)\; color: rgb(29\, 33\, 41)\; font-family: system-ui\, -apple-system\, BlinkMacSystemFont\, &quot\;.SFNSText-Regular&quot\;\, sans-serif\; font-size: 14px\; white-space: pre-wrap\;">Every June the Montesano Police Department teams up with the Montesano Community to hold the William Brookshire Bike Rodeo. With safety in mind\, every child that attend gets a new bike helmet\, and other safety items along with the opportunity in riding through an obstacle course testing their bicycle safety. If you are interested in donating to this great community outreach program contact the Montesano Police Department at 249-1031.</span>
LOCATION:pin Montesano Police Department 112 North Main Street\, Montesano\, Washington 98563
UID:e.26.11992
SEQUENCE:3
DTSTAMP:20260424T132628Z
URL:https://chamber.graysharbor.org/events/details/william-brookshire-bicycle-rodeo-11992
END:VEVENT

END:VCALENDAR
