BEGIN:VCALENDAR
VERSION:2.0
PRODID:-//ChamberMaster//Event Calendar 2.0//EN
METHOD:PUBLISH
X-PUBLISHED-TTL:P3D
REFRESH-INTERVAL:P3D
CALSCALE:GREGORIAN
BEGIN:VEVENT
DTSTART:20190420T023000Z
DTEND:20190421T043000Z
X-MICROSOFT-CDO-ALLDAYEVENT:FALSE
SUMMARY:Willy Wonka & the Chocolate Factory (1971)
DESCRIPTION:The world is astounded when Willy Wonka\, for years a recluse in his factory\, announces that five lucky people will be given a tour of the factory\, shown all the secrets of his amazing candy\, and one will win a lifetime supply of Wonka chocolate. Nobody wants the prize more than young Charlie\, but as his family is so poor that buying even one bar of chocolate is a treat\, buying enough bars to find one of the five golden tickets is unlikely in the extreme. But in movieland\, magic can happen. Charlie\, along with four somewhat odious other children\, get the chance of a lifetime and a tour of the factory. Along the way\, mild disasters befall each of the odious children\, but can Charlie beat the odds and grab the brass ring?\n\nStarring Gene Wilder\, Jack Albertson\, and Peter Ostrum.
X-ALT-DESC;FMTTYPE=text/html:<p style="box-sizing: border-box\; margin: 0px 0px 10px\; font-family: &quot\;Helvetica Neue&quot\;\, Helvetica\, Arial\, sans-serif\; font-size: 14px\;">The world is astounded when Willy Wonka\, for years a recluse in his factory\, announces that five lucky people will be given a tour of the factory\, shown all the secrets of his amazing candy\, and one will win a lifetime supply of Wonka chocolate. Nobody wants the prize more than young Charlie\, but as his family is so poor that buying even one bar of chocolate is a treat\, buying enough bars to find one of the five golden tickets is unlikely in the extreme. But in movieland\, magic can happen. Charlie\, along with four somewhat odious other children\, get the chance of a lifetime and a tour of the factory. Along the way\, mild disasters befall each of the odious children\, but can Charlie beat the odds and grab the brass ring?</p>\n\n<p style="box-sizing: border-box\; margin: 0px 0px 10px\; font-family: &quot\;Helvetica Neue&quot\;\, Helvetica\, Arial\, sans-serif\; font-size: 14px\;">Starring Gene Wilder\, Jack Albertson\, and Peter Ostrum.</p>\n
LOCATION:7th Street Theatre Hoquiam\, WA
UID:e.26.11936
SEQUENCE:3
DTSTAMP:20260424T151401Z
URL:https://chamber.graysharbor.org/events/details/willy-wonka-the-chocolate-factory-1971-11936
END:VEVENT

END:VCALENDAR
