BEGIN:VCALENDAR
VERSION:2.0
PRODID:-//ChamberMaster//Event Calendar 2.0//EN
METHOD:PUBLISH
X-PUBLISHED-TTL:P3D
REFRESH-INTERVAL:P3D
CALSCALE:GREGORIAN
BEGIN:VEVENT
DTSTART:20180203T163000Z
DTEND:20180204T010000Z
X-MICROSOFT-CDO-ALLDAYEVENT:FALSE
SUMMARY:Wine & Cheese EDventure
DESCRIPTION:Looking for a little cheese with your wine? Venture into Lewis county for a tour of Willapa Hills Creamery and Farm. As we tour the facilities\, we will be sampling some of their award winning cheeses. After lunch at Jeremy's Farm to Table resturant\, we will be taking a private tour of the Scatter Creek Winery for a tour and wine tasting! Hop on board at the Grays Harbor College Main Campus or Riverview Education Center in Raymond!\n\nCost: $64.00 (included lunch!)\n\nCall 360.538.4088 to register or visit: www.ghc.edu/ce
X-ALT-DESC;FMTTYPE=text/html:<span style="color: rgb(75\, 79\, 86)\; font-family: Helvetica\, Arial\, sans-serif\; font-size: 14px\; background-color: rgb(255\, 255\, 255)\;">Looking for a little cheese with your wine? Venture into Lewis county for a tour of Willapa Hills Creamery and Farm. As we tour the facilities\, we will be sampling some of their award winning cheeses. After lunch at Jeremy&#39\;s Farm to Table resturant\, we will be taking a private tour of the Scatter Creek Winery for a tour and wine tasting! Hop on board at the Grays Harbor College Main Campus or Riverview Education Center in Raymond!</span><br style="color: rgb(75\, 79\, 86)\; font-family: Helvetica\, Arial\, sans-serif\; font-size: 14px\; background-color: rgb(255\, 255\, 255)\;" />\n<span style="color: rgb(75\, 79\, 86)\; font-family: Helvetica\, Arial\, sans-serif\; font-size: 14px\; background-color: rgb(255\, 255\, 255)\;">Cost: $64.00 (included lunch!)</span><br style="color: rgb(75\, 79\, 86)\; font-family: Helvetica\, Arial\, sans-serif\; font-size: 14px\; background-color: rgb(255\, 255\, 255)\;" />\n<span style="color: rgb(75\, 79\, 86)\; font-family: Helvetica\, Arial\, sans-serif\; font-size: 14px\; background-color: rgb(255\, 255\, 255)\;">Call 360.538.4088 to register or visit:&nbsp\;</span><a data-lynx-mode="async" href="https://l.facebook.com/l.php?u=http%3A%2F%2Fwww.ghc.edu%2Fce&amp\;h=ATPSw18rf2iOl4aUWoy1vmmJRTSslK4bKKEWiObG81ZZjmGVergvBV-IhqcCYTjOpB4af79SfrY8hM_DJ7E6Ih-xWFeY8vMuo8U5K8_88x3MUrncPg_0-cNATpsbWMb8JEKwRU0QLfrg02aXs0pAdR2LMYFlkWWudTzd-Fif9TCVTsGDyk2UHUvms6xPI64oHkg" rel="nofollow noopener" style="color: rgb(54\, 88\, 153)\; cursor: pointer\; text-decoration-line: none\; font-family: Helvetica\, Arial\, sans-serif\; font-size: 14px\; background-color: rgb(255\, 255\, 255)\;" target="_blank">www.ghc.edu/ce</a>
LOCATION:Pick up at Grays Harbor College
UID:e.26.9483
SEQUENCE:3
DTSTAMP:20260425T132624Z
URL:https://chamber.graysharbor.org/events/details/wine-cheese-edventure-9483
END:VEVENT

END:VCALENDAR
