BEGIN:VCALENDAR
VERSION:2.0
PRODID:-//ChamberMaster//Event Calendar 2.0//EN
METHOD:PUBLISH
X-PUBLISHED-TTL:P3D
REFRESH-INTERVAL:P3D
CALSCALE:GREGORIAN
BEGIN:VEVENT
DTSTART;VALUE=DATE:20200316
DTEND;VALUE=DATE:20200317
TRANSP:TRANSPARENT
X-MICROSOFT-CDO-ALLDAYEVENT:TRUE
SUMMARY:WING Academy
DESCRIPTION:WING Academy\, an exciting new employment readiness training program\, is offering a a training cohort in Grays Harbor from March 16th - 27th. WING Academy empowers people at-risk of homelessness or struggling to re-enter the workforce by providing career pathways\, soft skills and free technical training\, job placement and the support necessary to succeed. \n\n\n	WING Academy provides a holistic model that includes:\n\n	\n		Wraparound employment-focused case management and peer support throughout the program\n		A two-week\, 40 hour training providing industry-recognized warehousing-focused certifications (OSHA\, CPR/First Aid\, Forklift\, Certified Logistics Associate) at no-cost to the participant\n		Direct connection upon completion of the training to short-term (3 month) paid work experience within the warehousing industry\n		Support with removal of employment barriers and connection to additional community resources\n	\n	\n\nWho is WING Academy a good fit for?\n\n\n	Individuals who are ages 18+\n	Individuals who are unemployed or underemployed and looking for work (additional information may be requested)\n	Individuals who are interested in Warehousing and related industries as their next employment step\n	Individuals who are available for a fast turnaround into a two week training program followed immediately by employment
X-ALT-DESC;FMTTYPE=text/html:<p style="margin: 0px 0px 6px\; font-family: system-ui\, -apple-system\, BlinkMacSystemFont\, &quot\;.SFNSText-Regular&quot\;\, sans-serif\; caret-color: rgb(28\, 30\, 33)\; color: rgb(28\, 30\, 33)\; font-size: 14px\;"><span style="font-size:14px\;"><span style="font-family:arial\;">WING Academy\, an exciting new employment readiness training program\, is offering a a training cohort in Grays Harbor from March 16th - 27th.&nbsp\;</span></span><span style="font-size:14px\;"><span style="font-family:arial\;">WING Academy empowers people at-risk of homelessness or struggling to re-enter the workforce by providing career pathways\, soft skills and free technical training\, job placement and the support necessary to succeed.&nbsp\;</span></span></p>\n\n<ul>\n	<li style="font-size:11pt\;font-family:Calibri\, sans-serif\;"><span style="font-size:14px\;"><span style="font-family:arial\;">WING&nbsp\;Academy&nbsp\;provides a holistic model that includes:</span></span>\n\n	<ul>\n		<li style="font-size:11pt\;font-family:Calibri\, sans-serif\;"><span style="font-size:14px\;"><span style="font-family:arial\;"><strong>Wraparound employment-focused case management and peer support throughout the program</strong></span></span></li>\n		<li style="font-size:11pt\;font-family:Calibri\, sans-serif\;"><span style="font-size:14px\;"><span style="font-family:arial\;"><strong>A two-week\, 40 hour training providing industry-recognized warehousing-focused certifications (OSHA\, CPR/First Aid\, Forklift\, Certified Logistics Associate) at no-cost to the participant</strong></span></span></li>\n		<li style="font-size:11pt\;font-family:Calibri\, sans-serif\;"><span style="font-size:14px\;"><span style="font-family:arial\;"><strong>Direct connection upon completion of the training to short-term (3 month) paid work experience within the warehousing industry</strong></span></span></li>\n		<li style="font-size:11pt\;font-family:Calibri\, sans-serif\;"><span style="font-size:14px\;"><span style="font-family:arial\;"><strong>Support with removal of employment barriers and connection to additional community resources</strong></span></span></li>\n	</ul>\n	</li>\n</ul>\n<span style="font-size:14px\;"><span style="font-family:arial\;">Who is&nbsp\;WING&nbsp\;Academy&nbsp\;a good fit for?</span></span>\n\n<ul>\n	<li style="font-size:11pt\;font-family:Calibri\, sans-serif\;"><span style="font-size:14px\;"><span style="font-family:arial\;">Individuals who are ages 18+</span></span></li>\n	<li style="font-size:11pt\;font-family:Calibri\, sans-serif\;"><span style="font-size:14px\;"><span style="font-family:arial\;">Individuals who are unemployed or underemployed and looking for work (additional information may be requested)</span></span></li>\n	<li style="font-size:11pt\;font-family:Calibri\, sans-serif\;"><span style="font-size:14px\;"><span style="font-family:arial\;">Individuals who are interested in Warehousing and related industries as their next employment step</span></span></li>\n	<li style="font-size:11pt\;font-family:Calibri\, sans-serif\;"><span style="font-size:14px\;"><span style="font-family:arial\;">Individuals who are available for a fast turnaround into a two week training program followed immediately by employment</span></span></li>\n</ul>\n
LOCATION:
UID:e.26.12444
SEQUENCE:3
DTSTAMP:20260424T073245Z
URL:https://chamber.graysharbor.org/events/details/wing-academy-12444
END:VEVENT

END:VCALENDAR
