BEGIN:VCALENDAR
VERSION:2.0
PRODID:-//ChamberMaster//Event Calendar 2.0//EN
METHOD:PUBLISH
X-PUBLISHED-TTL:P3D
REFRESH-INTERVAL:P3D
CALSCALE:GREGORIAN
BEGIN:VEVENT
DTSTART:20190331T220000Z
DTEND:20190401T000000Z
X-MICROSOFT-CDO-ALLDAYEVENT:FALSE
SUMMARY:Winter Civic Choir & Concert Band
DESCRIPTION:The GH Civic Choir and Concert Band will perform an afternoon of delightful music. The theme of the Winter Civic Choir and Concert Band performance will be Musical Humor-An afternoon of song that will tickle your funny bone\, remind you of fond funny memories\, make your toes tap\, and your belly ache from giggling.\n\nThe Choir is under the direction of Kari Hasbrouck and Concert Band is directed by Tiffany Maki.
X-ALT-DESC;FMTTYPE=text/html:<p style="font-size: 16px\; box-sizing: inherit\; margin-top: 0px\; margin-bottom: 1rem\; caret-color: rgb(41\, 43\, 44)\; color: rgb(41\, 43\, 44)\; font-family: Lato\, sans-serif\;">The GH Civic Choir and Concert Band will perform an afternoon of delightful music. The theme of the Winter Civic Choir and Concert Band performance will be Musical Humor-An afternoon of song that will tickle your funny bone\, remind you of fond funny memories\, make your toes tap\, and your belly ache from giggling.</p>\n\n<p style="font-size: 16px\; box-sizing: inherit\; margin-top: 0px\; margin-bottom: 1rem\; caret-color: rgb(41\, 43\, 44)\; color: rgb(41\, 43\, 44)\; font-family: Lato\, sans-serif\;">The Choir is under the direction of Kari Hasbrouck and Concert Band is directed by Tiffany Maki.</p>\n
LOCATION:Bishop Center for the Performing Arts 1620 Edward P. Smith Dr. Aberdeen\, WA
UID:e.26.11665
SEQUENCE:3
DTSTAMP:20260424T163552Z
URL:https://chamber.graysharbor.org/events/details/winter-civic-choir-concert-band-11665
END:VEVENT

END:VCALENDAR
