BEGIN:VCALENDAR
VERSION:2.0
PRODID:-//ChamberMaster//Event Calendar 2.0//EN
METHOD:PUBLISH
X-PUBLISHED-TTL:P3D
REFRESH-INTERVAL:P3D
CALSCALE:GREGORIAN
BEGIN:VEVENT
DTSTART:20171111T180000Z
DTEND:20171112T000000Z
X-MICROSOFT-CDO-ALLDAYEVENT:FALSE
SUMMARY:Winter Craft Fair and Bake Sale
DESCRIPTION:Winter Craft Fair and Bake Sale\n\nCome join us for our last craft fair and bake sale of the year. Just in time for the holidays!\n\n\n\n	Crafts\n	Free Admission\n	Kid Friendly
X-ALT-DESC;FMTTYPE=text/html:<h1 class="_5gmx" data-testid="event-permalink-event-name" id="seo_h1_tag" style="color: rgb(29\, 33\, 41)\; font-size: 20px\; margin: 0px 12px 0px 0px\; padding: 0px\; font-weight: normal\; line-height: 28px\; font-family: Helvetica\, Arial\, sans-serif\; background-color: rgb(255\, 255\, 255)\;">Winter Craft Fair and Bake Sale</h1>\n\n<div class="_2qgs" style="color: rgb(75\, 79\, 86)\; padding: 12px\; position: relative\; border-top: none\; font-family: Helvetica\, Arial\, sans-serif\; font-size: 12px\;"><span class="_4n-j _fbReactionComponent__eventDetailsContentTags fsl" data-testid="event-permalink-details" style="font-size: 14px\; font-family: inherit\;">Come join us for our last craft fair and bake sale of the year. Just in time for the holidays!</span></div>\n\n<div class="_1r51" style="line-height: 24px\; margin: 4px 12px 12px\; min-height: 24px\; font-family: Helvetica\, Arial\, sans-serif\; color: rgb(29\, 33\, 41)\; font-size: 12px\;">\n<ul class="uiList uiCollapsedList uiCollapsedListHidden _509- _4ki" id="u_jsonp_11_o" style="list-style-type: none\; margin: 0px\; padding: 0px\;">\n	<li style="border-width: 0px\; display: inline-block\; vertical-align: top\;"><a href="https://www.facebook.com/events/discovery/?acontext=%7B%22ref%22%3A44%2C%22unit_ref%22%3A%22related_events%22%2C%22source%22%3A1%2C%22is_sponsored%22%3Atrue%2C%22ad_creator_id%22%3A100000086391994%2C%22action_history%22%3A%22%5B%7B%5C%22surface%5C%22%3A%5C%22permalink%5C%22%2C%5C%22mechanism%5C%22%3A%5C%22RHC%5C%22%2C%5C%22extra_data%5C%22%3A%5B%5D%7D%2C%7B%5C%22surface%5C%22%3A%5C%22permalink%5C%22%2C%5C%22mechanism%5C%22%3A%5C%22surface%5C%22%2C%5C%22extra_data%5C%22%3A%5B%5D%7D%2C%7B%5C%22surface%5C%22%3A%5C%22permalink%5C%22%2C%5C%22mechanism%5C%22%3A%5C%22event_information%5C%22%2C%5C%22extra_data%5C%22%3A%7B%5C%22tag%5C%22%3A%5C%22Crafts%5C%22%7D%7D%5D%22%2C%22has_source%22%3Atrue%7D&amp\;suggestion_token=%7B%22event_categories%22%3A%5B258647957895086%5D%7D" style="color: rgb(54\, 88\, 153)\; cursor: pointer\; text-decoration-line: none\; font-family: inherit\;"><span class="_47od" style="background-color: rgb(237\, 242\, 250)\; border-radius: 2px\; color: rgb(32\, 55\, 95)\; display: block\; height: 14px\; line-height: 14px\; margin: 0px 4px 4px 0px\; padding: 4px 6px\; position: relative\; font-family: inherit\;">Crafts</span></a></li>\n	<li style="border-width: 0px 0px 0px 1px\; display: inline-block\; vertical-align: top\;"><a href="https://www.facebook.com/events/discovery/?acontext=%7B%22ref%22%3A44%2C%22unit_ref%22%3A%22related_events%22%2C%22source%22%3A1%2C%22is_sponsored%22%3Atrue%2C%22ad_creator_id%22%3A100000086391994%2C%22action_history%22%3A%22%5B%7B%5C%22surface%5C%22%3A%5C%22permalink%5C%22%2C%5C%22mechanism%5C%22%3A%5C%22RHC%5C%22%2C%5C%22extra_data%5C%22%3A%5B%5D%7D%2C%7B%5C%22surface%5C%22%3A%5C%22permalink%5C%22%2C%5C%22mechanism%5C%22%3A%5C%22surface%5C%22%2C%5C%22extra_data%5C%22%3A%5B%5D%7D%2C%7B%5C%22surface%5C%22%3A%5C%22permalink%5C%22%2C%5C%22mechanism%5C%22%3A%5C%22event_information%5C%22%2C%5C%22extra_data%5C%22%3A%7B%5C%22tag%5C%22%3A%5C%22Free+Admission%5C%22%7D%7D%5D%22%2C%22has_source%22%3Atrue%7D&amp\;suggestion_token=%7B%22event_flags%22%3A%5B%22free%22%5D%7D" style="color: rgb(54\, 88\, 153)\; cursor: pointer\; text-decoration-line: none\; font-family: inherit\;"><span class="_47od" style="background-color: rgb(237\, 242\, 250)\; border-radius: 2px\; color: rgb(32\, 55\, 95)\; display: block\; height: 14px\; line-height: 14px\; margin: 0px 4px 4px 0px\; padding: 4px 6px\; position: relative\; font-family: inherit\;">Free Admission</span></a></li>\n	<li style="border-width: 0px 0px 0px 1px\; display: inline-block\; vertical-align: top\;"><a href="https://www.facebook.com/events/discovery/?acontext=%7B%22ref%22%3A44%2C%22unit_ref%22%3A%22related_events%22%2C%22source%22%3A1%2C%22is_sponsored%22%3Atrue%2C%22ad_creator_id%22%3A100000086391994%2C%22action_history%22%3A%22%5B%7B%5C%22surface%5C%22%3A%5C%22permalink%5C%22%2C%5C%22mechanism%5C%22%3A%5C%22RHC%5C%22%2C%5C%22extra_data%5C%22%3A%5B%5D%7D%2C%7B%5C%22surface%5C%22%3A%5C%22permalink%5C%22%2C%5C%22mechanism%5C%22%3A%5C%22surface%5C%22%2C%5C%22extra_data%5C%22%3A%5B%5D%7D%2C%7B%5C%22surface%5C%22%3A%5C%22permalink%5C%22%2C%5C%22mechanism%5C%22%3A%5C%22event_information%5C%22%2C%5C%22extra_data%5C%22%3A%7B%5C%22tag%5C%22%3A%5C%22Kid+Friendly%5C%22%7D%7D%5D%22%2C%22has_source%22%3Atrue%7D&amp\;suggestion_token=%7B%22event_flags%22%3A%5B%22family_friendly%22%5D%7D" style="color: rgb(54\, 88\, 153)\; cursor: pointer\; text-decoration-line: none\; font-family: inherit\;"><span class="_47od" style="background-color: rgb(237\, 242\, 250)\; border-radius: 2px\; color: rgb(32\, 55\, 95)\; display: block\; height: 14px\; line-height: 14px\; margin: 0px 4px 4px 0px\; padding: 4px 6px\; position: relative\; font-family: inherit\;">Kid Friendly</span></a></li>\n</ul>\n</div>\n
LOCATION:Lake Quinault School 6130 US Highway 101 Amanda Park\, WA
UID:e.26.8277
SEQUENCE:3
DTSTAMP:20260425T181614Z
URL:https://chamber.graysharbor.org/events/details/winter-craft-fair-and-bake-sale-8277
END:VEVENT

END:VCALENDAR
