BEGIN:VCALENDAR
VERSION:2.0
PRODID:-//ChamberMaster//Event Calendar 2.0//EN
METHOD:PUBLISH
X-PUBLISHED-TTL:P3D
REFRESH-INTERVAL:P3D
CALSCALE:GREGORIAN
BEGIN:VEVENT
DTSTART:20191221T220000Z
DTEND:20191221T233000Z
X-MICROSOFT-CDO-ALLDAYEVENT:FALSE
SUMMARY:Winter Extravaganza For Kids
DESCRIPTION:Children and their families are invited to come play board games\, do crafts\, and create the perfect cup of cocoa from our hot chocolate bar! Refreshments provided by the Friends of Hoquiam Timberland Library.
X-ALT-DESC;FMTTYPE=text/html:<span style="font-family:arial\;"><span style="caret-color: rgb(29\, 33\, 41)\; color: rgb(29\, 33\, 41)\; font-size: 14px\; white-space: pre-wrap\;">Children and their families are invited to come play board games\, do crafts\, and create the perfect cup of cocoa from our hot chocolate bar! Refreshments provided by the Friends of Hoquiam Timberland Library.</span></span>
LOCATION:pin Hoquiam Timberland Library 420 7th St\, Hoquiam\, Washington 98550
UID:e.26.12321
SEQUENCE:3
DTSTAMP:20260424T025015Z
URL:https://chamber.graysharbor.org/events/details/winter-extravaganza-for-kids-12321
END:VEVENT

END:VCALENDAR
