BEGIN:VCALENDAR
VERSION:2.0
PRODID:-//ChamberMaster//Event Calendar 2.0//EN
METHOD:PUBLISH
X-PUBLISHED-TTL:P3D
REFRESH-INTERVAL:P3D
CALSCALE:GREGORIAN
BEGIN:VEVENT
DTSTART:20171216T220000Z
DTEND:20171216T233000Z
X-MICROSOFT-CDO-ALLDAYEVENT:FALSE
SUMMARY:Winter Extravaganza for Kids
DESCRIPTION:Bring the whole family to play board games\, do crafts\, and create the perfect cup of cocoa from our hot chocolate bar!\n\n\n\nFor children & families
X-ALT-DESC;FMTTYPE=text/html:<span style="color: rgb(75\, 79\, 86)\; font-family: Helvetica\, Arial\, sans-serif\; font-size: 14px\; background-color: rgb(255\, 255\, 255)\;">Bring the whole family to play board games\, do crafts\, and create the perfect cup of cocoa from our hot chocolate bar!</span><br style="color: rgb(75\, 79\, 86)\; font-family: Helvetica\, Arial\, sans-serif\; font-size: 14px\; background-color: rgb(255\, 255\, 255)\;" />\n<br style="color: rgb(75\, 79\, 86)\; font-family: Helvetica\, Arial\, sans-serif\; font-size: 14px\; background-color: rgb(255\, 255\, 255)\;" />\n<span style="color: rgb(75\, 79\, 86)\; font-family: Helvetica\, Arial\, sans-serif\; font-size: 14px\; background-color: rgb(255\, 255\, 255)\;">For children &amp\; families</span>
LOCATION:Hoquiam Timberland Library 420 7th St. Hoquiam\, WA
UID:e.26.8390
SEQUENCE:3
DTSTAMP:20260425T163801Z
URL:https://chamber.graysharbor.org/events/details/winter-extravaganza-for-kids-8390
END:VEVENT

END:VCALENDAR
