BEGIN:VCALENDAR
VERSION:2.0
PRODID:-//ChamberMaster//Event Calendar 2.0//EN
METHOD:PUBLISH
X-PUBLISHED-TTL:P3D
REFRESH-INTERVAL:P3D
CALSCALE:GREGORIAN
BEGIN:VEVENT
DTSTART;VALUE=DATE:20191129
DTEND;VALUE=DATE:20191202
TRANSP:TRANSPARENT
X-MICROSOFT-CDO-ALLDAYEVENT:TRUE
SUMMARY:Winter Fanta-Sea
DESCRIPTION:Over 70 arts and crafts booths feature thousands of unique handmade items just in time for the holidays! Bring the kids\, Santa will be there to listen to all of your Christmas wishes.
X-ALT-DESC;FMTTYPE=text/html:<span style="background-color:rgb(255\, 255\, 255)\; color:rgb(128\, 128\, 128)\; font-family:lato\,sans-serif\; font-size:17.008px">Over 70 arts and crafts booths feature thousands of unique handmade items just in time for the holidays! Bring the kids\, Santa will be there to listen to all of your Christmas wishes.</span>
LOCATION:Ocean Shores Convention Center 120 W Chance A La Mer Ave Ocean Shores\, WA 98569
UID:e.26.11875
SEQUENCE:3
DTSTAMP:20260424T042306Z
URL:https://chamber.graysharbor.org/events/details/winter-fanta-sea-11-29-2019-11875
END:VEVENT

END:VCALENDAR
