BEGIN:VCALENDAR
VERSION:2.0
PRODID:-//ChamberMaster//Event Calendar 2.0//EN
METHOD:PUBLISH
X-PUBLISHED-TTL:P3D
REFRESH-INTERVAL:P3D
CALSCALE:GREGORIAN
BEGIN:VEVENT
DTSTART:20200308T030000Z
DTEND:20200308T050000Z
X-MICROSOFT-CDO-ALLDAYEVENT:FALSE
SUMMARY:Winter Institute and Crab Feed
DESCRIPTION:Come join us for our annual Winter Institute and Crab Feed. Save the date March 7th\, 2020!\n\nRegistrations and more info to come here: https://www.facebook.com/events/348326882721031/
X-ALT-DESC;FMTTYPE=text/html:<span style="caret-color: rgb(29\, 33\, 41)\; color: rgb(29\, 33\, 41)\; font-family: system-ui\, -apple-system\, BlinkMacSystemFont\, &quot\;.SFNSText-Regular&quot\;\, sans-serif\; font-size: 14px\; white-space: pre-wrap\;">Come join us for our annual Winter Institute and Crab Feed. Save the date March 7th\, 2020!</span><br style="caret-color: rgb(29\, 33\, 41)\; color: rgb(29\, 33\, 41)\; font-family: system-ui\, -apple-system\, BlinkMacSystemFont\, &quot\;.SFNSText-Regular&quot\;\, sans-serif\; font-size: 14px\; white-space: pre-wrap\;" />\n<span style="caret-color: rgb(29\, 33\, 41)\; color: rgb(29\, 33\, 41)\; font-family: system-ui\, -apple-system\, BlinkMacSystemFont\, &quot\;.SFNSText-Regular&quot\;\, sans-serif\; font-size: 14px\; white-space: pre-wrap\;">Registrations and more info to come here: </span>https://www.facebook.com/events/348326882721031/
LOCATION:pin Chateau Westport 710 Hancock Ave\, Westport\, Washington 98595
UID:e.26.12293
SEQUENCE:3
DTSTAMP:20260424T060147Z
URL:https://chamber.graysharbor.org/events/details/winter-institute-and-crab-feed-12293
END:VEVENT

END:VCALENDAR
