BEGIN:VCALENDAR
VERSION:2.0
PRODID:-//ChamberMaster//Event Calendar 2.0//EN
METHOD:PUBLISH
X-PUBLISHED-TTL:P3D
REFRESH-INTERVAL:P3D
CALSCALE:GREGORIAN
BEGIN:VEVENT
DTSTART:20171213T180000Z
DTEND:20171214T010000Z
X-MICROSOFT-CDO-ALLDAYEVENT:FALSE
SUMMARY:Winter Wonders Auction
DESCRIPTION:Fundraising Auction for The Garage: Music and Arts Center\n\nLive performance by Matthew Meadows\n\nGreat Auction Items and gift ideas\n\nPosh\, Scentsy\, Partylite\, Vagabond and Happenstance Gourmet Fudgehttps://www.vagaandhapp.com/\, Gift Certificate for Hosstyle Inkhttps://www.facebook.com/HosstyleInk/ \, Dancing Shutter Portraits Photo package http://www.dancingshutterportraits.com/ \, Gift Certificate forwww.Wovencreations.com \, North Pacific Utopian Wares\, Original limited edition Mike Stidham Artwork\, Homeshow with one hour of live original Music from Wil Russoul & guests (date upon availability)\, and sooo much more ! Come out and support your local Art and Music scene and score some great gifts while you are at it :)
X-ALT-DESC;FMTTYPE=text/html:<span style="color: rgb(75\, 79\, 86)\; font-family: Helvetica\, Arial\, sans-serif\; font-size: 14px\; background-color: rgb(255\, 255\, 255)\;">Fundraising Auction for The Garage: Music and Arts Center</span><br style="color: rgb(75\, 79\, 86)\; font-family: Helvetica\, Arial\, sans-serif\; font-size: 14px\; background-color: rgb(255\, 255\, 255)\;" />\n<span style="color: rgb(75\, 79\, 86)\; font-family: Helvetica\, Arial\, sans-serif\; font-size: 14px\; background-color: rgb(255\, 255\, 255)\;">Live performance by Matthew Meadows</span><br style="color: rgb(75\, 79\, 86)\; font-family: Helvetica\, Arial\, sans-serif\; font-size: 14px\; background-color: rgb(255\, 255\, 255)\;" />\n<span style="color: rgb(75\, 79\, 86)\; font-family: Helvetica\, Arial\, sans-serif\; font-size: 14px\; background-color: rgb(255\, 255\, 255)\;">Great Auction Items and gift ideas</span><br style="color: rgb(75\, 79\, 86)\; font-family: Helvetica\, Arial\, sans-serif\; font-size: 14px\; background-color: rgb(255\, 255\, 255)\;" />\n<span style="color: rgb(75\, 79\, 86)\; font-family: Helvetica\, Arial\, sans-serif\; font-size: 14px\; background-color: rgb(255\, 255\, 255)\;">Posh\, Scentsy\, Partylite\, Vagabond and Happenstance Gourmet </span><span style="color: rgb(75\, 79\, 86)\; font-family: Helvetica\, Arial\, sans-serif\; font-size: 14px\; background-color: rgb(255\, 255\, 255)\;">Fudge</span><a data-lynx-mode="async" data-lynx-uri="https://l.facebook.com/l.php?u=https%3A%2F%2Fwww.vagaandhapp.com%2F&amp\;h=ATOAkqIZRUP9bMZEEoqAeqTSUvpLFPvYnzHxkHRrq1XilpagsMA3mjMcOERY-lWQJJrssYwgpTsHJ5fMmgk9SbVIlCs7OmkRd8QSN1dcMVOvTM9t9Q5S4OvCBonpq-XsuB5wq2eCncD9n798RF2JLGzDuk3UFjl6Ld8lY7GDys1WOaM5ogitSgY_YvMhqgX-" href="https://www.vagaandhapp.com/" rel="nofollow noopener" style="color: rgb(54\, 88\, 153)\; cursor: pointer\; text-decoration-line: none\; font-family: Helvetica\, Arial\, sans-serif\; font-size: 14px\; background-color: rgb(255\, 255\, 255)\;" target="_blank"><span style="font-family: inherit\;">https</span></a><a data-lynx-mode="async" data-lynx-uri="https://l.facebook.com/l.php?u=https%3A%2F%2Fwww.vagaandhapp.com%2F&amp\;h=ATOAkqIZRUP9bMZEEoqAeqTSUvpLFPvYnzHxkHRrq1XilpagsMA3mjMcOERY-lWQJJrssYwgpTsHJ5fMmgk9SbVIlCs7OmkRd8QSN1dcMVOvTM9t9Q5S4OvCBonpq-XsuB5wq2eCncD9n798RF2JLGzDuk3UFjl6Ld8lY7GDys1WOaM5ogitSgY_YvMhqgX-" href="https://www.vagaandhapp.com/" rel="nofollow noopener" style="color: rgb(54\, 88\, 153)\; cursor: pointer\; text-decoration-line: none\; font-family: Helvetica\, Arial\, sans-serif\; font-size: 14px\; background-color: rgb(255\, 255\, 255)\;" target="_blank"><span style="font-family: inherit\;">://</span><wbr />www.vagaandhapp.com/</a><span style="color: rgb(75\, 79\, 86)\; font-family: Helvetica\, Arial\, sans-serif\; font-size: 14px\; background-color: rgb(255\, 255\, 255)\;">\, Gift Certificate for Hosstyle </span><span style="color: rgb(75\, 79\, 86)\; font-family: Helvetica\, Arial\, sans-serif\; font-size: 14px\; background-color: rgb(255\, 255\, 255)\;">Ink</span><a href="https://www.facebook.com/HosstyleInk/" rel="nofollow" style="color: rgb(54\, 88\, 153)\; cursor: pointer\; text-decoration-line: none\; font-family: Helvetica\, Arial\, sans-serif\; font-size: 14px\; background-color: rgb(255\, 255\, 255)\;"><span style="font-family: inherit\;">https</span></a><a href="https://www.facebook.com/HosstyleInk/" rel="nofollow" style="color: rgb(54\, 88\, 153)\; cursor: pointer\; text-decoration-line: none\; font-family: Helvetica\, Arial\, sans-serif\; font-size: 14px\; background-color: rgb(255\, 255\, 255)\;"><span style="font-family: inherit\;">://www.facebook.com/</span><wbr />HosstyleInk/</a><span style="color: rgb(75\, 79\, 86)\; font-family: Helvetica\, Arial\, sans-serif\; font-size: 14px\; background-color: rgb(255\, 255\, 255)\;">&nbsp\;\, Dancing Shutter Portraits Photo package&nbsp\;</span><a data-lynx-mode="async" data-lynx-uri="https://l.facebook.com/l.php?u=http%3A%2F%2Fwww.dancingshutterportraits.com%2F&amp\;h=ATNSzgxDOr5vkrXI7ng5B3Wq5mjahfMNfqJGEjnFApFokbxwhSgKXWRbcq4Mj_L2RAeihCefvKeg9dTUVyDEavrfA0pvcJpT9PaNYX1ZHRbt3ccXrxaJ_yxanN52gZiQ4G7B6zwVJYE5zGukv0xrBumXZ_EfkPV9Zgjdwy4Jj8sejaud5xLWQr1ef9zBfuqx" href="http://www.dancingshutterportraits.com/" rel="nofollow noopener" style="color: rgb(54\, 88\, 153)\; cursor: pointer\; text-decoration-line: none\; font-family: Helvetica\, Arial\, sans-serif\; font-size: 14px\; background-color: rgb(255\, 255\, 255)\;" target="_blank"><span style="font-family: inherit\;">http://</span><wbr /><span style="font-family: inherit\;">www.dancingshutterportraits</span><wbr />.com/</a><span style="color: rgb(75\, 79\, 86)\; font-family: Helvetica\, Arial\, sans-serif\; font-size: 14px\; background-color: rgb(255\, 255\, 255)\;">&nbsp\;\, Gift Certificate for</span><a data-lynx-mode="async" href="https://l.facebook.com/l.php?u=http%3A%2F%2Fwww.Wovencreations.com%2F&amp\;h=ATNZYFs5vsDXKS7DPTXg_BL0GNUw4jBftBJrgI7ibDxgMd8GLTvfOCM_JdLRHgV5I1jN6437gGMUKFqGUTIPxWLD16jFBcomSbkKDmxtmvhg210_aWiVHony8Sn85hfNUJGLAOM3JtYQxl9WUOsSitrs-Rj2XUFEjSXAUe_exXCp20bw-C5su0uamwYPVHvu" rel="nofollow noopener" style="color: rgb(54\, 88\, 153)\; cursor: pointer\; text-decoration-line: none\; font-family: Helvetica\, Arial\, sans-serif\; font-size: 14px\; background-color: rgb(255\, 255\, 255)\;" target="_blank">www.Wovencreations.com</a><span style="color: rgb(75\, 79\, 86)\; font-family: Helvetica\, Arial\, sans-serif\; font-size: 14px\; background-color: rgb(255\, 255\, 255)\;">&nbsp\;\, North Pacific Utopian Wares\, Original limited edition Mike Stidham Artwork\, Homeshow with one hour of live original Music from Wil Russoul &amp\; guests (date upon availability)\, and sooo much more ! Come out and support your local Art and Music scene and score some great gifts while you are at it :)</span>
LOCATION:Tinderbox Coffee Roasters Aberdeen\, WA
UID:e.26.8387
SEQUENCE:3
DTSTAMP:20260425T163801Z
URL:https://chamber.graysharbor.org/events/details/winter-wonders-auction-8387
END:VEVENT

END:VCALENDAR
