BEGIN:VCALENDAR
VERSION:2.0
PRODID:-//ChamberMaster//Event Calendar 2.0//EN
METHOD:PUBLISH
X-PUBLISHED-TTL:P3D
REFRESH-INTERVAL:P3D
CALSCALE:GREGORIAN
BEGIN:VEVENT
DTSTART:20181201T010000Z
DTEND:20181202T000000Z
X-MICROSOFT-CDO-ALLDAYEVENT:FALSE
SUMMARY:WinterFest
DESCRIPTION:Kick off the holiday season with a family friendly event welcoming Santa at Zelasko Park on Friday evening activities all day long for the family on Saturday!
X-ALT-DESC;FMTTYPE=text/html:Kick off the holiday season with a family friendly event welcoming Santa at Zelasko Park on Friday evening activities all day long for the family on Saturday!
LOCATION:Downtown Aberdeen
UID:e.26.10677
SEQUENCE:3
DTSTAMP:20260424T210632Z
URL:https://chamber.graysharbor.org/events/details/winterfest-11-30-2018-10677
END:VEVENT

END:VCALENDAR
