BEGIN:VCALENDAR
VERSION:2.0
PRODID:-//ChamberMaster//Event Calendar 2.0//EN
METHOD:PUBLISH
X-PUBLISHED-TTL:P3D
REFRESH-INTERVAL:P3D
CALSCALE:GREGORIAN
BEGIN:VEVENT
DTSTART;VALUE=DATE:20191207
DTEND;VALUE=DATE:20191209
TRANSP:TRANSPARENT
X-MICROSOFT-CDO-ALLDAYEVENT:TRUE
SUMMARY:WinterFest
DESCRIPTION:WinterFest will be Saturday\, December 7th & 8th. Lots to see and do!\n\nBreakfast with Santa\, Holiday Market\, Trolley\, Gingerbread Contest and Display\, Elf\, the Movie at the D&R Theatre\, Andrew Allen Concert and Show - all brought to you by the Downtown Aberdeen Association.\n\n Click here for the schedule of events: https://www.winterfestaberdeen.com/activities
X-ALT-DESC;FMTTYPE=text/html:<span style="text-align: center\;"><font color="#030303" face="helvetica\, sans-serif"><span style="caret-color: rgb(3\, 3\, 3)\; font-size: 14px\;">WinterFest will be Saturday\, December 7th &amp\; 8th. Lots to see and do!</span></font><br />\n<font color="#030303" face="helvetica\, sans-serif"><span style="caret-color: rgb(3\, 3\, 3)\; font-size: 14px\;">Breakfast with Santa\, Holiday Market\, Trolley\, Gingerbread Contest and Display\, </span></font><em style="caret-color: rgb(3\, 3\, 3)\; color: rgb(3\, 3\, 3)\; font-family: helvetica\, sans-serif\; font-size: 14px\;">Elf</em><font color="#030303" face="helvetica\, sans-serif"><span style="caret-color: rgb(3\, 3\, 3)\; font-size: 14px\;">\, the Movie at the D&amp\;R Theatre\, Andrew Allen Concert and Show - all brought to you by the Downtown Aberdeen Association.</span></font><br />\n<font color="#030303" face="helvetica\, sans-serif"><span style="caret-color: rgb(3\, 3\, 3)\; font-size: 14px\;">&#8203\;Click here for the&nbsp\;schedule of events:</span><span style="caret-color: rgb(3\, 3\, 3)\;">&nbsp\;</span></font></span>https://www.winterfestaberdeen.com/activities
LOCATION:Aberdeen\, WA
UID:e.26.12309
SEQUENCE:3
DTSTAMP:20260424T041815Z
URL:https://chamber.graysharbor.org/events/details/winterfest-12309
END:VEVENT

END:VCALENDAR
