BEGIN:VCALENDAR
VERSION:2.0
PRODID:-//ChamberMaster//Event Calendar 2.0//EN
METHOD:PUBLISH
X-PUBLISHED-TTL:P3D
REFRESH-INTERVAL:P3D
CALSCALE:GREGORIAN
BEGIN:VEVENT
DTSTART:20171202T010000Z
DTEND:20171203T000000Z
X-MICROSOFT-CDO-ALLDAYEVENT:FALSE
SUMMARY:WinterFest 2017
DESCRIPTION:Welcome the Holidays with a family event - beginning Friday Dec. 1st at Zelasko Park in Aberdeen\, in conjunction with the monthly First Friday Events. Santa will arrive\, the trees will be lit\, and local groups will sing and entertain. The stores downtown will be open for your shopping and many will participate in a free drawing - just go to the stores and enter. Saturday morning Santa will have breakfast with kids (and families) at the D & R Event Center - children through 6th grade eat free - sponsored by the Windemere Foundation. There will also be free crafts for children. The Grays Harbor Community Hospital Foundation will also be there for Pictures with Santa - this is a fundraiser for their group. We also will offer a Holiday Market on Saturday with many vendors offering gift items for your shopping from 10:00 - 3:00. It will be held in the old Goldberg's Furniture building at 110 Wishkah St. The downtown stores will of course be open on Saturday and again - you have a second opportunity to enter the drawings - and see what our stores have to offer!
X-ALT-DESC;FMTTYPE=text/html:Welcome the Holidays with a family event - beginning Friday Dec. 1st at Zelasko Park in Aberdeen\, in conjunction with the monthly First Friday Events. Santa will arrive\, the trees will be lit\, and local groups will sing and entertain. The stores downtown will be open for your shopping and many will participate in a free drawing - just go to the stores and enter. Saturday morning Santa will have breakfast with kids (and families) at the D &amp\; R Event Center - children through 6th grade eat free - sponsored by the Windemere Foundation. There will also be free crafts for children. The Grays Harbor Community Hospital Foundation will also be there for Pictures with Santa - this is a fundraiser for their group. We also will offer a Holiday Market on Saturday with many vendors offering gift items for your shopping from 10:00 - 3:00. It will be held in the old Goldberg&#39\;s Furniture building at 110 Wishkah St. The downtown stores will of course be open on Saturday and again - you have a second opportunity to enter the drawings - and see what our stores have to offer!
LOCATION:Downtown Aberdeen
UID:e.26.8156
SEQUENCE:3
DTSTAMP:20260425T163456Z
URL:https://chamber.graysharbor.org/events/details/winterfest-2017-8156
END:VEVENT

END:VCALENDAR
