BEGIN:VCALENDAR
VERSION:2.0
PRODID:-//ChamberMaster//Event Calendar 2.0//EN
METHOD:PUBLISH
X-PUBLISHED-TTL:P3D
REFRESH-INTERVAL:P3D
CALSCALE:GREGORIAN
BEGIN:VEVENT
DTSTART:20181201T180000Z
DTEND:20181201T230000Z
X-MICROSOFT-CDO-ALLDAYEVENT:FALSE
SUMMARY:Winterfest Holiday Market
DESCRIPTION:The 2nd Holiday Market will have over 30 vendors!
X-ALT-DESC;FMTTYPE=text/html:The 2nd Holiday Market will have over 30 vendors!
LOCATION:117 W. Wishkah St. Aberdeen\, WA 98520
UID:e.26.11282
SEQUENCE:3
DTSTAMP:20260424T224401Z
URL:https://chamber.graysharbor.org/events/details/winterfest-holiday-market-11282
END:VEVENT

END:VCALENDAR
