BEGIN:VCALENDAR
VERSION:2.0
PRODID:-//ChamberMaster//Event Calendar 2.0//EN
METHOD:PUBLISH
X-PUBLISHED-TTL:P3D
REFRESH-INTERVAL:P3D
CALSCALE:GREGORIAN
BEGIN:VEVENT
DTSTART:20171202T220000Z
DTEND:20171203T040000Z
X-MICROSOFT-CDO-ALLDAYEVENT:FALSE
SUMMARY:WinterFest South Pole at Seaport Landing
DESCRIPTION:Join us at the WinterFest South Pole as we light up the BIG Christmas tree on the waterfront at Seaport Landing!\n\n\n\nFestivities will start at 2pm on Saturday\, Dec. 2nd with the grand opening of Seaport Landing Gift Shop\, an open house featuring the Spar Shop preview\, live music\, the arrival of jolly Captain Kringle\, and the lighting of the Christmas tree once darkness falls.\n\n\n\nWe'll be serving cider and hot cocoa to enjoy\, and hosting a toy drive for kids in need by the Aberdeen Lions\, PAWS will take holiday pictures with your pets. The tree decorations will be top notch\, supplied by our friends at the Dennis Company. Don't miss this festive time to gather as a community!\n\n\n\nLearn more at https://www.winterfestaberdeen.com/\n\n\n\n	Party\n	Kid Friendly
X-ALT-DESC;FMTTYPE=text/html:<div class="_2qgs" style="color: rgb(75\, 79\, 86)\; padding: 12px\; position: relative\; border-top: none\; font-family: Helvetica\, Arial\, sans-serif\; font-size: 12px\;"><span class="_4n-j _fbReactionComponent__eventDetailsContentTags fsl" data-testid="event-permalink-details" style="font-size: 14px\; font-family: inherit\;">Join us at the WinterFest South Pole as we light up the BIG Christmas tree on the waterfront at Seaport Landing!<br />\n<br />\nFestivities will start at 2pm on Saturday\, Dec. 2nd with the grand opening of Seaport Landing Gift Shop\, an open house featuring the Spar Shop preview\, live music\, the arrival of jolly Captain Kringle\, and the lighting of the Christmas tree once darkness falls.<br />\n<br />\nWe&#39\;ll be serving cider and hot cocoa to enjoy\, and hosting a toy drive for kids in need by the Aberdeen Lions\, PAWS will take holiday pictures with your pets. The tree decorations will be top notch\, supplied by our friends at the Dennis Company. Don&#39\;t miss this festive time to gather as a community!<br />\n<br />\nLearn more at&nbsp\;<a data-lynx-mode="async" href="https://l.facebook.com/l.php?u=https%3A%2F%2Fwww.winterfestaberdeen.com%2F&amp\;h=ATOS0vtOQxveeOX23pcQsv9jhv6A14LxdGJVuukpfIasOfAFyeUEjtiMNMc_40HYfgOb5JLXvsHyAL6GMwCnpB3tnUsag6xr_C9AiEgts2_75jjqOBUvRW0SeqML7RUCuM9bI1wyORqhJLlbW6WcRqWjER7GDfoc_nL-bzxJI0hnyyhN6Dz5DLaqTAEfL4M3" rel="nofollow noopener" style="color: rgb(54\, 88\, 153)\; cursor: pointer\; text-decoration-line: none\; font-family: inherit\;" target="_blank"><span style="font-family: inherit\;">https://</span><wbr />www.winterfestaberdeen.com/</a></span></div>\n\n<div class="_1r51" style="line-height: 24px\; margin: 4px 12px 12px\; min-height: 24px\; font-family: Helvetica\, Arial\, sans-serif\; color: rgb(29\, 33\, 41)\; font-size: 12px\;">\n<ul class="uiList uiCollapsedList uiCollapsedListHidden _509- _4ki" id="u_jsonp_17_n" style="list-style-type: none\; margin: 0px\; padding: 0px\;">\n	<li style="border-width: 0px\; display: inline-block\; vertical-align: top\;"><a href="https://www.facebook.com/events/discovery/?acontext=%7B%22ref%22%3A4%2C%22source%22%3A1%2C%22action_history%22%3A%22%5B%7B%5C%22surface%5C%22%3A%5C%22permalink%5C%22%2C%5C%22mechanism%5C%22%3A%5C%22surface%5C%22%2C%5C%22extra_data%5C%22%3A%5B%5D%7D%2C%7B%5C%22surface%5C%22%3A%5C%22permalink%5C%22%2C%5C%22mechanism%5C%22%3A%5C%22event_information%5C%22%2C%5C%22extra_data%5C%22%3A%7B%5C%22tag%5C%22%3A%5C%22Party%5C%22%7D%7D%5D%22%2C%22has_source%22%3Atrue%7D&amp\;suggestion_token=%7B%22event_categories%22%3A%5B183019258855149%5D%7D" style="color: rgb(54\, 88\, 153)\; cursor: pointer\; text-decoration-line: none\; font-family: inherit\;"><span class="_47od" style="background-color: rgb(237\, 242\, 250)\; border-radius: 2px\; color: rgb(32\, 55\, 95)\; display: block\; height: 14px\; line-height: 14px\; margin: 0px 4px 4px 0px\; padding: 4px 6px\; position: relative\; font-family: inherit\;">Party</span></a></li>\n	<li style="border-width: 0px 0px 0px 1px\; display: inline-block\; vertical-align: top\;"><a href="https://www.facebook.com/events/discovery/?acontext=%7B%22ref%22%3A4%2C%22source%22%3A1%2C%22action_history%22%3A%22%5B%7B%5C%22surface%5C%22%3A%5C%22permalink%5C%22%2C%5C%22mechanism%5C%22%3A%5C%22surface%5C%22%2C%5C%22extra_data%5C%22%3A%5B%5D%7D%2C%7B%5C%22surface%5C%22%3A%5C%22permalink%5C%22%2C%5C%22mechanism%5C%22%3A%5C%22event_information%5C%22%2C%5C%22extra_data%5C%22%3A%7B%5C%22tag%5C%22%3A%5C%22Kid+Friendly%5C%22%7D%7D%5D%22%2C%22has_source%22%3Atrue%7D&amp\;suggestion_token=%7B%22event_flags%22%3A%5B%22family_friendly%22%5D%7D" style="color: rgb(54\, 88\, 153)\; cursor: pointer\; text-decoration-line: none\; font-family: inherit\;"><span class="_47od" style="background-color: rgb(237\, 242\, 250)\; border-radius: 2px\; color: rgb(32\, 55\, 95)\; display: block\; height: 14px\; line-height: 14px\; margin: 0px 4px 4px 0px\; padding: 4px 6px\; position: relative\; font-family: inherit\;">Kid Friendly</span></a></li>\n</ul>\n</div>\n
LOCATION:Seaport Landing 500 N Custer St. Aberdeen
UID:e.26.8344
SEQUENCE:3
DTSTAMP:20260425T164113Z
URL:https://chamber.graysharbor.org/events/details/winterfest-south-pole-at-seaport-landing-8344
END:VEVENT

END:VCALENDAR
