BEGIN:VCALENDAR
VERSION:2.0
PRODID:-//ChamberMaster//Event Calendar 2.0//EN
METHOD:PUBLISH
X-PUBLISHED-TTL:P3D
REFRESH-INTERVAL:P3D
CALSCALE:GREGORIAN
BEGIN:VEVENT
DTSTART:20200208T023000Z
DTEND:20200208T033000Z
X-MICROSOFT-CDO-ALLDAYEVENT:FALSE
SUMMARY:Women in Business Coffee Hour
DESCRIPTION:"Teamwork makes the dream work!" If you own a business\, side hustle\, money-making hobby\, or are simply interested in owning a business someday\, THIS IS FOR YOU.\n\nThe coffee hour will be a low pressure networking opportunity to get to know other women in business\, discuss our business ideas\, wins\, struggles\, and woes\, and just be around gals who get what we are going through. The purchase of coffee is OPTIONAL - simply RSVP and bring nothing but your beautiful self. If there's enough interest\, I will host more of these to give women in business a safe\, low-key place to connect and unwind.\n\n\n\n***children under 1 year only please.**** As much as we LOVE kids\, this meeting is intended to give working mums a break and a chance to chat without interruption.
X-ALT-DESC;FMTTYPE=text/html:<span style="caret-color: rgb(29\, 33\, 41)\; color: rgb(29\, 33\, 41)\; font-family: system-ui\, -apple-system\, BlinkMacSystemFont\, &quot\;.SFNSText-Regular&quot\;\, sans-serif\; font-size: 14px\; white-space: pre-wrap\;">&quot\;Teamwork makes the dream work!&quot\; If you own a business\, side hustle\, money-making hobby\, or are simply interested in owning a business someday\, THIS IS FOR YOU.<br />\nThe coffee hour will be a low pressure networking opportunity to get to know other women in business\, discuss our business ideas\, wins\, struggles\, and woes\, and just be around gals who get what we are going through. The purchase of coffee is OPTIONAL - simply RSVP and bring nothing but your beautiful self. If there&#39\;s enough interest\, I will host more of these to give women in business a safe\, low-key place to connect and unwind.</span><br style="caret-color: rgb(29\, 33\, 41)\; color: rgb(29\, 33\, 41)\; font-family: system-ui\, -apple-system\, BlinkMacSystemFont\, &quot\;.SFNSText-Regular&quot\;\, sans-serif\; font-size: 14px\; white-space: pre-wrap\;" />\n<br style="caret-color: rgb(29\, 33\, 41)\; color: rgb(29\, 33\, 41)\; font-family: system-ui\, -apple-system\, BlinkMacSystemFont\, &quot\;.SFNSText-Regular&quot\;\, sans-serif\; font-size: 14px\; white-space: pre-wrap\;" />\n<span style="caret-color: rgb(29\, 33\, 41)\; color: rgb(29\, 33\, 41)\; font-family: system-ui\, -apple-system\, BlinkMacSystemFont\, &quot\;.SFNSText-Regular&quot\;\, sans-serif\; font-size: 14px\; white-space: pre-wrap\;">***children under 1 year only please.**** As much as we LOVE kids\, this meeting is intended to give working mums a break and a chance to chat without interruption.</span>
LOCATION:pin Juniper Tree 1101 1st Street\, Cosmopolis\, Washington 98537
UID:e.26.12359
SEQUENCE:3
DTSTAMP:20260424T025715Z
URL:https://chamber.graysharbor.org/events/details/women-in-business-coffee-hour-12359
END:VEVENT

END:VCALENDAR
