BEGIN:VCALENDAR
VERSION:2.0
PRODID:-//ChamberMaster//Event Calendar 2.0//EN
METHOD:PUBLISH
X-PUBLISHED-TTL:P3D
REFRESH-INTERVAL:P3D
CALSCALE:GREGORIAN
BEGIN:VEVENT
DTSTART:20170505T003000Z
DTEND:20170505T023000Z
X-MICROSOFT-CDO-ALLDAYEVENT:FALSE
SUMMARY:Women's Self Defense Workshop
DESCRIPTION:This class is designed to empower women with the information and tools they need to stay safe and protect themselves.\n\nTwo total sessions!\n\nInstructor: Chris Hook\n\nDate: Thursdays\, 05/04-05/11\n\nTime: 5:30PM-7:30PM\n\nCost: $24.50\n\nLocation: GHC Gym\n\nTo register\, call 360.538.4088 or visit: www.ghc.edu/ce
X-ALT-DESC;FMTTYPE=text/html:<span class="_4n-j _3cht fsl" data-testid="event-permalink-details">This class is designed to empower women with the information and tools they need to stay safe and protect themselves.<br />\nTwo total sessions!<br />\nInstructor: Chris Hook<br />\nDate: Thursdays\, 05/04-05/11<br />\nTime: 5:30PM-7:30PM<br />\nCost: $24.50<br />\nLocation: GHC Gym<br />\nTo register\, call 360.538.4088 or visit: <a href="http://www.ghc.edu/ce" rel="nofollow nofollow" target="_blank"><font color="#0066cc">www.ghc.edu/ce</font></a></span>
LOCATION:Grays Harbor College Community Education 1620 Edward P. Smith Drive\, Aberdeen\, Washington 98520
UID:e.26.7662
SEQUENCE:3
DTSTAMP:20260426T032751Z
URL:https://chamber.graysharbor.org/events/details/women-s-self-defense-workshop-7662
END:VEVENT

END:VCALENDAR
