BEGIN:VCALENDAR
VERSION:2.0
PRODID:-//ChamberMaster//Event Calendar 2.0//EN
METHOD:PUBLISH
X-PUBLISHED-TTL:P3D
REFRESH-INTERVAL:P3D
CALSCALE:GREGORIAN
BEGIN:VEVENT
DTSTART:20170802T223000Z
DTEND:20170802T233000Z
X-MICROSOFT-CDO-ALLDAYEVENT:FALSE
SUMMARY:Wonderworks: Forts
DESCRIPTION:FB: https://www.facebook.com/events/681546162053625/?acontext={%22ref%22%3A%2244%22%2C%22unit_ref%22%3A%22related_events%22%2C%22action_history%22%3A%22[{\\%22surface\\%22%3A\\%22permalink\\%22%2C\\%22mechanism\\%22%3A\\%22RHC\\%22%2C\\%22extra_data\\%22%3A[]}]%22}
X-ALT-DESC;FMTTYPE=text/html:<br />\n<br />\n<br />\nFB: https://www.facebook.com/events/681546162053625/?acontext={%22ref%22%3A%2244%22%2C%22unit_ref%22%3A%22related_events%22%2C%22action_history%22%3A%22[{\\%22surface\\%22%3A\\%22permalink\\%22%2C\\%22mechanism\\%22%3A\\%22RHC\\%22%2C\\%22extra_data\\%22%3A[]}]%22}
LOCATION:Aberdeen Timberland Library 1221 E Market Street Aberdeen\, WA 98520
UID:e.26.8054
SEQUENCE:3
DTSTAMP:20260426T003002Z
URL:https://chamber.graysharbor.org/events/details/wonderworks-forts-8054
END:VEVENT

END:VCALENDAR
