BEGIN:VCALENDAR
VERSION:2.0
PRODID:-//ChamberMaster//Event Calendar 2.0//EN
METHOD:PUBLISH
X-PUBLISHED-TTL:P3D
REFRESH-INTERVAL:P3D
CALSCALE:GREGORIAN
BEGIN:VEVENT
DTSTART:20201204T200000Z
DTEND:20201204T210000Z
X-MICROSOFT-CDO-ALLDAYEVENT:FALSE
SUMMARY:Working Washington Small Business Relief Grants - Round 3 - Live Q&A
DESCRIPTION:Join GGHI CEO Lynnette Buffington and local Small Business Development Center Office Mia Johnstone live on the GGHI FB page\, Friday\, December 4th at Noon.  We'll be reviewing the new grant application and taking your questions live.
X-ALT-DESC;FMTTYPE=text/html:<span style="color: rgb(29\, 28\, 29)\; font-family: Slack-Lato\, appleLogo\, sans-serif\; font-size: 15px\; font-variant-ligatures: common-ligatures\; orphans: 2\; widows: 2\; background-color: rgb(248\, 248\, 248)\; text-decoration-thickness: initial\;">Join GGHI CEO Lynnette Buffington and local Small Business Development Center Office Mia Johnstone live on the GGHI FB page\, Friday\, December 4th at Noon.&nbsp\; We&#39\;ll be reviewing the new grant application and taking your questions live.</span>
LOCATION:Facebook Live
UID:e.26.12543
SEQUENCE:3
DTSTAMP:20260424T060331Z
URL:https://chamber.graysharbor.org/events/details/working-washington-small-business-relief-grants-round-3-live-q-a-12543
END:VEVENT

END:VCALENDAR
