BEGIN:VCALENDAR
VERSION:2.0
PRODID:-//ChamberMaster//Event Calendar 2.0//EN
METHOD:PUBLISH
X-PUBLISHED-TTL:P3D
REFRESH-INTERVAL:P3D
CALSCALE:GREGORIAN
BEGIN:VEVENT
DTSTART:20170510T223000Z
DTEND:20170510T233000Z
X-MICROSOFT-CDO-ALLDAYEVENT:FALSE
SUMMARY:WorkSource Grays Harbor Community Meeting
DESCRIPTION:Pacific Mountain Workforce Development Council for the Grays Harbor\, Lewis\, Mason\, Pacific and Thurston counties invites you to attend one of several community meetings being held in May to discuss the next generation of workforce services. While there are many organizations and people working to provide quality services\, our communities and economies are changing. We have the opportunity to identify which services you want and to improve how\, when\, and where these services are delivered. We value your input  on how best to provide employment preparation and related business services in your community.
X-ALT-DESC;FMTTYPE=text/html:Pacific Mountain Workforce Development Council for the Grays Harbor\, Lewis\, Mason\, Pacific and Thurston counties&nbsp\;invites you to attend one of several community meetings being held in May to discuss the next generation of workforce services. While there are many organizations and people working to provide quality services\, our communities and economies are changing. We have the opportunity to identify which services you want and to improve how\, when\, and where these services are delivered. We value your input&nbsp\; on how best to provide employment preparation and related business services in your community.
LOCATION:Grays Harbor College 1620 Edward P Smith Dr - Gene Schermer Bldg\, Room 4331 Aberdeen\, WA 98520
UID:e.26.7693
SEQUENCE:3
DTSTAMP:20260426T032934Z
URL:https://chamber.graysharbor.org/events/details/worksource-grays-harbor-community-meeting-05-10-2017-7693
END:VEVENT

END:VCALENDAR
