BEGIN:VCALENDAR
VERSION:2.0
PRODID:-//ChamberMaster//Event Calendar 2.0//EN
METHOD:PUBLISH
X-PUBLISHED-TTL:P3D
REFRESH-INTERVAL:P3D
CALSCALE:GREGORIAN
BEGIN:VEVENT
DTSTART;VALUE=DATE:20190902
DTEND;VALUE=DATE:20190903
TRANSP:TRANSPARENT
X-MICROSOFT-CDO-ALLDAYEVENT:TRUE
SUMMARY:World of Outlaws
DESCRIPTION:WORLD OF OUTLAWS\n\n\nAdult (18-61): $37\n\nJunior (7-17) / Senior (62+) / Active Military: $27\n\nChild (6 and under) $10\n\nPremium Seating - $47\n\n\nEvent Classes\n\n410 Sprint Cars: World of Outlaws\n\nNW Focus Midgets: Northwest Focus Midget Series
X-ALT-DESC;FMTTYPE=text/html:<h4 style="color: rgb(51\, 51\, 51)\; background-color: rgb(255\, 255\, 255)\; margin: 0px 0px 5px\; padding: 0px\; border: 0px\; outline: 0px\; font-family: Arial\; vertical-align: baseline\; caret-color: rgb(255\, 255\, 255)\;"><font color="#000000">WORLD OF OUTLAWS</font></h4>\n\n<div class="mdWrap" style="color: rgb(51\, 51\, 51)\; font-family: Arial\, sans-serif\; background-color: rgb(255\, 255\, 255)\; margin: 0px\; padding: 0px\; border: 0px\; outline: 0px\; vertical-align: baseline\; caret-color: rgb(255\, 255\, 255)\;">\n<p style="margin: 0px 0px 1em\; padding: 0px\; border: 0px\; outline: 0px\; font-style: inherit\; vertical-align: baseline\; line-height: 1.4\;"><font color="#000000" face="arial">Adult (18-61): $37<br />\nJunior (7-17) / Senior (62+) / Active Military: $27<br />\nChild (6 and under) $10<br />\nPremium Seating - $47</font></p>\n</div>\n\n<div class="schEventClassWrap" style="color: rgb(51\, 51\, 51)\; font-family: Arial\, sans-serif\; background-color: rgb(255\, 255\, 255)\; margin: 0px\; padding: 0px\; border: 0px\; outline: 0px\; vertical-align: baseline\; caret-color: rgb(255\, 255\, 255)\;"><strong style="margin: 0px\; padding: 0px\; border: 0px\; outline: 0px\; font-style: inherit\; vertical-align: baseline\;"><font color="#000000" face="arial">Event Classes</font></strong>\n\n<div class="eventInfo" style="margin: 0px\; padding: 0px\; border: 0px\; outline: 0px\; font-style: inherit\; vertical-align: baseline\;"><font color="#000000" face="arial"><span style="margin: 0px\; padding: 0px\; border: 0px\; outline: 0px\; font-style: inherit\; vertical-align: baseline\;">410 Sprint Cars:</span>&nbsp\;World of Outlaws</font></div>\n\n<div class="eventInfo" style="margin: 0px\; padding: 0px\; border: 0px\; outline: 0px\; font-style: inherit\; vertical-align: baseline\;"><font color="#000000" face="arial"><span style="margin: 0px\; padding: 0px\; border: 0px\; outline: 0px\; font-style: inherit\; vertical-align: baseline\;">NW Focus Midgets:</span>&nbsp\;Northwest Focus Midget Series</font></div>\n</div>\n
LOCATION:pin Grays Harbor Raceway 32 Elma McCleary Rd\, Elma\, Washington 98541
UID:e.26.12115
SEQUENCE:3
DTSTAMP:20260424T074051Z
URL:https://chamber.graysharbor.org/events/details/world-of-outlaws-12115
END:VEVENT

END:VCALENDAR
