BEGIN:VCALENDAR
VERSION:2.0
PRODID:-//ChamberMaster//Event Calendar 2.0//EN
METHOD:PUBLISH
X-PUBLISHED-TTL:P3D
REFRESH-INTERVAL:P3D
CALSCALE:GREGORIAN
BEGIN:VEVENT
DTSTART:20170904T230000Z
DTEND:20170905T040000Z
X-MICROSOFT-CDO-ALLDAYEVENT:FALSE
SUMMARY:World of Outlaws Craftsman Sprint Car Series
DESCRIPTION:The World of Outlaws Craftsman Sprint Car Series hits the track Monday\, September 4th! The Summer Thunder Sprint Series will run on Sunday! Presented by Lucky Eagle Casino & Hotel. Call early for your tickets! (360) 757-6959
X-ALT-DESC;FMTTYPE=text/html:<span style="color: rgb(75\, 79\, 86)\; font-family: Helvetica\, Arial\, sans-serif\; font-size: 14px\; background-color: rgb(255\, 255\, 255)\;">The World of Outlaws Craftsman Sprint Car Series hits the track Monday\, September 4th! The Summer Thunder Sprint Series will run on Sunday! Presented by Lucky Eagle Casino &amp\; Hotel. Call early for your tickets! (360) 757-6959</span>
LOCATION:Grays Harbor Raceway 32 Elma McCleary Road Elma\, WA
UID:e.26.8180
SEQUENCE:3
DTSTAMP:20260425T214515Z
URL:https://chamber.graysharbor.org/events/details/world-of-outlaws-craftsman-sprint-car-series-8180
END:VEVENT

END:VCALENDAR
