BEGIN:VCALENDAR
VERSION:2.0
PRODID:-//ChamberMaster//Event Calendar 2.0//EN
METHOD:PUBLISH
X-PUBLISHED-TTL:P3D
REFRESH-INTERVAL:P3D
CALSCALE:GREGORIAN
BEGIN:VEVENT
DTSTART:20190420T170000Z
DTEND:20190420T200000Z
X-MICROSOFT-CDO-ALLDAYEVENT:FALSE
SUMMARY:Writing Workshop
DESCRIPTION:Oakville Timberland Regional Library teams with Dean Johnny\, who will facilitate and coordinate writing workshops. Times are as follows: 10-11 a.m. - children's focused activities\n\n11-12 p.m. - teens\, poetry\, writing skills \n\nnoon-1 p.m. - adults\, writing skills\, critique\, and guest speakers.
X-ALT-DESC;FMTTYPE=text/html:<span style="font-size: 16px\; caret-color: rgb(68\, 68\, 68)\; color: rgb(68\, 68\, 68)\; font-family: Roboto\, sans-serif\; font-weight: bold\;">Oakville Timberland Regional Library teams with Dean Johnny\, who will facilitate and coordinate writing workshops. Times are as follows: 10-11 a.m. - children&#39\;s focused activities</span><br style="font-size: 16px\; box-sizing: border-box\; caret-color: rgb(68\, 68\, 68)\; color: rgb(68\, 68\, 68)\; font-family: Roboto\, sans-serif\; font-weight: bold\;" />\n<span style="font-size: 16px\; caret-color: rgb(68\, 68\, 68)\; color: rgb(68\, 68\, 68)\; font-family: Roboto\, sans-serif\; font-weight: bold\;">11-12 p.m. - teens\, poetry\, writing skills&nbsp\;</span><br style="font-size: 16px\; box-sizing: border-box\; caret-color: rgb(68\, 68\, 68)\; color: rgb(68\, 68\, 68)\; font-family: Roboto\, sans-serif\; font-weight: bold\;" />\n<span style="font-size: 16px\; caret-color: rgb(68\, 68\, 68)\; color: rgb(68\, 68\, 68)\; font-family: Roboto\, sans-serif\; font-weight: bold\;">noon-1 p.m. - adults\, writing skills\, critique\, and guest speakers.</span>
LOCATION:Oakville Timberland Library
UID:e.26.11939
SEQUENCE:3
DTSTAMP:20260424T145959Z
URL:https://chamber.graysharbor.org/events/details/writing-workshop-11939
END:VEVENT

END:VCALENDAR
