BEGIN:VCALENDAR
VERSION:2.0
PRODID:-//ChamberMaster//Event Calendar 2.0//EN
METHOD:PUBLISH
X-PUBLISHED-TTL:P3D
REFRESH-INTERVAL:P3D
CALSCALE:GREGORIAN
BEGIN:VEVENT
DTSTART:20190316T180000Z
DTEND:20190316T210000Z
X-MICROSOFT-CDO-ALLDAYEVENT:FALSE
SUMMARY:Year Two Anniversary!
DESCRIPTION:Steam Donkey Brewing is turning two and cannot wait to celebrate with you! There will be special beer releases\, giveaways\, green beer food and much more fun for everyone.
X-ALT-DESC;FMTTYPE=text/html:<span style="caret-color: rgb(29\, 33\, 41)\; color: rgb(29\, 33\, 41)\; font-family: system-ui\, -apple-system\, BlinkMacSystemFont\, &quot\;.SFNSText-Regular&quot\;\, sans-serif\; font-size: 14px\; white-space: pre-wrap\;">Steam Donkey Brewing is turning two and cannot wait to celebrate with you! There will be special beer releases\, giveaways\, green beer food and much more fun for everyone. </span>
LOCATION:pin Steam Donkey Brewing Company 101 E Wishkah\, Aberdeen\, Washington 98520
UID:e.26.11816
SEQUENCE:3
DTSTAMP:20260424T163153Z
URL:https://chamber.graysharbor.org/events/details/year-two-anniversary-11816
END:VEVENT

END:VCALENDAR
