BEGIN:VCALENDAR
VERSION:2.0
PRODID:-//ChamberMaster//Event Calendar 2.0//EN
METHOD:PUBLISH
X-PUBLISHED-TTL:P3D
REFRESH-INTERVAL:P3D
CALSCALE:GREGORIAN
BEGIN:VEVENT
DTSTART:20190723T170000Z
DTEND:20190723T210000Z
X-MICROSOFT-CDO-ALLDAYEVENT:FALSE
SUMMARY:Yellow Brick Road Tsunami Health Walk
DESCRIPTION:Pick up a "Rescue Card" when you register at the Shoalwater Bay Gym\, get it stamped at each booth along the walk and be eligible to win a prize at 1pm.\n\n\n\nInformation booths will be all along the route to browse and gather goodies!
X-ALT-DESC;FMTTYPE=text/html:<span style="caret-color: rgb(34\, 34\, 34)\; color: rgb(34\, 34\, 34)\; font-family: Calibri\, sans-serif\;">Pick up a &ldquo\;Rescue Card&rdquo\; when you register at the Shoalwater Bay Gym\, get it stamped at each booth along the walk and be eligible to win a prize at 1pm.</span><br />\n<br />\nInformation booths will be all along the route&nbsp\;to browse and gather goodies!
LOCATION:Shoalwater Bay Tribal Gym 2405 Elm St. Tokeland\, WA
UID:e.26.12108
SEQUENCE:3
DTSTAMP:20260424T104632Z
URL:https://chamber.graysharbor.org/events/details/yellow-brick-road-tsunami-health-walk-12108
END:VEVENT

END:VCALENDAR
