BEGIN:VCALENDAR
VERSION:2.0
PRODID:-//ChamberMaster//Event Calendar 2.0//EN
METHOD:PUBLISH
X-PUBLISHED-TTL:P3D
REFRESH-INTERVAL:P3D
CALSCALE:GREGORIAN
BEGIN:VEVENT
DTSTART;VALUE=DATE:20190423
DTEND;VALUE=DATE:20190425
TRANSP:TRANSPARENT
X-MICROSOFT-CDO-ALLDAYEVENT:TRUE
SUMMARY:You Can’t Stop What You Don’t Know: Tall Cop Training
DESCRIPTION:Jermaine Galloway is one of the Country's leading experts on recognizing and understanding drug culture and trends. \n\nAs parents\, educators and professionals in every walk of life it is hard to keep up with the every-changing landscape of substance use and abuse. Officer Galloway's presentation is highly informative and relevant   keeping you in the KNOW. \n\nYou will be amazed at the amount of information that is covered in one of his sessions. \n\n\n\nOfficer Galloway created his own alcohol and substance abuse prevention and identification program called the "You Can't Stop What You Don't Know" program. Officer Galloway provides (and purchased) over 150 visual aids for attendees to view\, hold and become familiar with throughout each presentation.
X-ALT-DESC;FMTTYPE=text/html:<p dir="ltr" style="line-height: 1.38\; margin-top: 0pt\; margin-bottom: 0pt\;"><span style="font-size:16px\;"><span id="docs-internal-guid-b26a6c91-7fff-51ff-d0a3-85e288148068" style="caret-color: rgb(0\, 0\, 0)\; font-family: -webkit-standard\;"><span style="background-color: transparent\; font-variant-ligatures: normal\; font-variant-east-asian: normal\; font-variant-position: normal\; vertical-align: baseline\; white-space: pre-wrap\;">Jermaine Galloway is one of the Country&rsquo\;s leading experts on recognizing and understanding drug culture and trends. </span></span></span></p>\n\n<p dir="ltr" style="line-height: 1.38\; margin-top: 0pt\; margin-bottom: 0pt\;"><span style="font-size:16px\;"><span id="docs-internal-guid-b26a6c91-7fff-51ff-d0a3-85e288148068" style="caret-color: rgb(0\, 0\, 0)\; font-family: -webkit-standard\;"><span style="background-color: transparent\; font-variant-ligatures: normal\; font-variant-east-asian: normal\; font-variant-position: normal\; vertical-align: baseline\; white-space: pre-wrap\;">As parents\, educators and professionals in every walk of life it is hard to keep up with the every-changing landscape of substance use and abuse. Officer Galloway&rsquo\;s presentation is highly informative and relevant &mdash\; keeping you in the KNOW. </span></span></span></p>\n\n<p dir="ltr" style="line-height: 1.38\; margin-top: 0pt\; margin-bottom: 0pt\;"><span style="font-size:16px\;"><span id="docs-internal-guid-b26a6c91-7fff-51ff-d0a3-85e288148068" style="caret-color: rgb(0\, 0\, 0)\; font-family: -webkit-standard\;"><span style="background-color: transparent\; font-variant-ligatures: normal\; font-variant-east-asian: normal\; font-variant-position: normal\; vertical-align: baseline\; white-space: pre-wrap\;">You will be amazed at the amount of information that is covered in one of his sessions. </span></span><br />\n<br />\n<span style="font-family:arial\;"><span style="caret-color: rgb(111\, 114\, 135)\; letter-spacing: 0.5px\;">Officer Galloway created his own alcohol and substance abuse prevention and identification program called the &ldquo\;You Can&rsquo\;t Stop What You Don&rsquo\;t Know&rdquo\; program. Officer Galloway provides (and purchased) over 150 visual aids for attendees to view\, hold and become familiar with throughout each presentation.</span></span></span><br />\n&nbsp\;</p>\n
LOCATION:Tuesday\, April 23rd: Summit Pacific Wellness Center\, Elma Wednesday\, April 24th: Hoquiam High School Little Theatre\, Hoquiam
UID:e.26.11910
SEQUENCE:3
DTSTAMP:20260424T151433Z
URL:https://chamber.graysharbor.org/events/details/you-can-t-stop-what-you-don-t-know-tall-cop-training-11910
END:VEVENT

END:VCALENDAR
