BEGIN:VCALENDAR
VERSION:2.0
PRODID:-//ChamberMaster//Event Calendar 2.0//EN
METHOD:PUBLISH
X-PUBLISHED-TTL:P3D
REFRESH-INTERVAL:P3D
CALSCALE:GREGORIAN
BEGIN:VEVENT
DTSTART:20190511T023000Z
DTEND:20190511T040000Z
X-MICROSOFT-CDO-ALLDAYEVENT:FALSE
SUMMARY:Young Artists Showcase
DESCRIPTION:Young musicians from Grays Harbor have been selected to perform at the 7th Street Theatre on Friday\, May 10 at 7:30 pm. Local teachers and community members have nominated their most skillful artists for the Young Artist Showcase.
X-ALT-DESC;FMTTYPE=text/html:<span style="caret-color: rgb(29\, 33\, 41)\; color: rgb(29\, 33\, 41)\; font-family: system-ui\, -apple-system\, BlinkMacSystemFont\, &quot\;.SFNSText-Regular&quot\;\, sans-serif\; font-size: 14px\; white-space: pre-wrap\;">Young musicians from Grays Harbor have been selected to perform at the 7th Street Theatre on Friday\, May 10 at 7:30 pm. Local teachers and community members have nominated their most skillful artists for the Young Artist Showcase.</span>
LOCATION:pin 7th Street Theatre 313 7th St\, Hoquiam\, Washington 98550
UID:e.26.11950
SEQUENCE:3
DTSTAMP:20260424T132627Z
URL:https://chamber.graysharbor.org/events/details/young-artists-showcase-11950
END:VEVENT

END:VCALENDAR
