BEGIN:VCALENDAR
VERSION:2.0
PRODID:-//ChamberMaster//Event Calendar 2.0//EN
METHOD:PUBLISH
X-PUBLISHED-TTL:P3D
REFRESH-INTERVAL:P3D
CALSCALE:GREGORIAN
BEGIN:VEVENT
DTSTART:20170513T023000Z
DTEND:20170513T050000Z
X-MICROSOFT-CDO-ALLDAYEVENT:FALSE
SUMMARY:Young Artists Showcase
DESCRIPTION:Young performers from Grays Harbor ranging from nine to 19 years old will perform at the 7th Street Theatre on Friday\, May 12\, at 7:30 p.m. Students of voice\, piano\, violin\, drama and dance who will share their talents are:\n\nJustyce Brooks\, Kendall Cavin\, Alana \, Hailey and Stephanie Evensen\, Ben Fagerstedt\, Raquel Gray\, Jessah Kiah\, Joie Haviland\, Micah Hollen\, Analei Holt\, Tyler Marchese\, Dylan Moodenbaugh\, Bonnie Rowe and Raechel Snow. They are students of Debra Akerlund\, Alexandra Amarok\, Kari Hasbrouck\, Christine Hill\, Erica Hollen\, Lori Oestreich\, Patty Sundstrom and Merry Jo Zimmer.
X-ALT-DESC;FMTTYPE=text/html:Young performers from Grays Harbor ranging from nine to 19 years old will perform at the 7th Street Theatre on Friday\, May 12\, at 7:30 p.m. Students of voice\, piano\, violin\, drama and dance who will share their talents are:<br />\nJustyce Brooks\, Kendall Cavin\, Alana \, Hailey and Stephanie Evensen\, Ben Fagerstedt\, Raquel Gray\, Jessah Kiah\, Joie Haviland\, Micah Hollen\, Analei Holt\, Tyler Marchese\, Dylan Moodenbaugh\, Bonnie Rowe and Raechel Snow. They are students of Debra Akerlund\, Alexandra Amarok\, Kari Hasbrouck\, Christine Hill\, Erica Hollen\, Lori Oestreich\, Patty Sundstrom and Merry Jo Zimmer.
LOCATION:7th Street Theatre 313 7th St. Hoquiam\, WA
UID:e.26.7701
SEQUENCE:3
DTSTAMP:20260426T032623Z
URL:https://chamber.graysharbor.org/events/details/young-artists-showcase-7701
END:VEVENT

END:VCALENDAR
