BEGIN:VCALENDAR
VERSION:2.0
PRODID:-//ChamberMaster//Event Calendar 2.0//EN
METHOD:PUBLISH
X-PUBLISHED-TTL:P3D
REFRESH-INTERVAL:P3D
CALSCALE:GREGORIAN
BEGIN:VEVENT
DTSTART:20190818T020000Z
DTEND:20190818T040000Z
X-MICROSOFT-CDO-ALLDAYEVENT:FALSE
SUMMARY:Young Choreographers Showcase
DESCRIPTION:This performance features 13 world premieres choreographed by local dancers\, drawing upon a variety of dance styles. For more information visit: www.balletnorthwest.org.
X-ALT-DESC;FMTTYPE=text/html:This performance features 13 world premieres choreographed by local dancers\, drawing upon a variety of dance styles. For more information visit: www.balletnorthwest.org.
LOCATION:Kenneth J. Minnaert Center for the Arts 2011 Mottman Rd. SW Olympia\, WA 98512
UID:e.26.12134
SEQUENCE:3
DTSTAMP:20260424T085902Z
URL:https://chamber.graysharbor.org/events/details/young-choreographers-showcase-12134
END:VEVENT

END:VCALENDAR
