BEGIN:VCALENDAR
VERSION:2.0
PRODID:-//ChamberMaster//Event Calendar 2.0//EN
METHOD:PUBLISH
X-PUBLISHED-TTL:P3D
REFRESH-INTERVAL:P3D
CALSCALE:GREGORIAN
BEGIN:VEVENT
DTSTART;VALUE=DATE:20170513
DTEND;VALUE=DATE:20170514
TRANSP:TRANSPARENT
X-MICROSOFT-CDO-ALLDAYEVENT:TRUE
SUMMARY:Youth Fishing Derby
DESCRIPTION:The annual Ocean Shores Youth Fishing Derby will be held on Saturday. Kids' registration starts at 7am. The derby is in need of equipment and boat owners who are willing to volunteer their time and equipment to take kids out on boats (there are City and State requirements to volunteer for this event). Donations should be forwarded to the Ocean Shores Elks Lodge.
X-ALT-DESC;FMTTYPE=text/html:The annual Ocean Shores Youth Fishing Derby will be held on Saturday. Kids&#39\; registration starts at 7am. The derby is in need of equipment and boat owners who are willing to volunteer their time and equipment to take kids out on boats (there are City and State requirements to volunteer for this event). Donations should be forwarded to the Ocean Shores Elks Lodge.
LOCATION:Ocean Shores
UID:e.26.6529
SEQUENCE:3
DTSTAMP:20260426T033011Z
URL:https://chamber.graysharbor.org/events/details/youth-fishing-derby-6529
END:VEVENT

END:VCALENDAR
