BEGIN:VCALENDAR
VERSION:2.0
PRODID:-//ChamberMaster//Event Calendar 2.0//EN
METHOD:PUBLISH
X-PUBLISHED-TTL:P3D
REFRESH-INTERVAL:P3D
CALSCALE:GREGORIAN
BEGIN:VEVENT
DTSTART:20171210T210000Z
DTEND:20171210T230000Z
X-MICROSOFT-CDO-ALLDAYEVENT:FALSE
SUMMARY:Yule Log Celebration
DESCRIPTION:Bring your family to create a special holiday memory and experience the charm of an old fashioned Yule Log Celebration this holiday season!\n\n\n\nWe'll BRING IN THE YULE LOG\n\nat Schafer State Park\n\nW 1365 Schafer Park Rd. Elma\n\non\n\nSunday\, Dec 10\, at 1 pm\n\n\n\nWhile the "kids" hunt for the Yule Log\, the Friends of Schafer and Lake Sylvia (FOSLS) will provide hot beverages\, a warm fire and lively Christmas music. Bring the family\, your singing voice\, and something to share for our potluck. This is the perfect time for fellowship during the winter holiday season with State Park Supporters and Friends!\n\n\n\nAnd if you are couragous\, bring your version of a Yule Log cake! If we get enough there might be a contest!\n\n\n\nThe Friends of Schafer & Lake Sylvia State Parks (FOSLS) and State Park Staff\n\nare working together to keep your parks open.\n\nCome\, join us FOSLS!\n\n\n\nA Discover Pass for vehicles is required and available at the park.\n\n\n\nMore information 360 789 9953\n\nPO Box 642\, Montesano\, WA 98563\n\nhttps://www.facebook.com/FriendsOfSchaferLakeSylvia/\n\n\n\n	Kid Friendly
X-ALT-DESC;FMTTYPE=text/html:<div class="_2qgs" style="color: rgb(75\, 79\, 86)\; padding: 12px\; position: relative\; border-top: none\; font-family: Helvetica\, Arial\, sans-serif\; font-size: 12px\;"><span class="_4n-j _fbReactionComponent__eventDetailsContentTags fsl" data-testid="event-permalink-details" style="font-size: 14px\; font-family: inherit\;">Bring your family to create a special holiday memory and experience the charm of an old fashioned Yule Log Celebration this holiday season!<br />\n<br />\nWe&rsquo\;ll BRING IN THE YULE LOG<br />\nat Schafer State Park<br />\nW 1365 Schafer Park Rd. Elma<br />\non<br />\nSunday\, Dec 10\, at 1 pm<br />\n<br />\nWhile the &ldquo\;kids&rdquo\; hunt for the Yule Log\, the Friends of Schafer and Lake Sylvia (FOSLS) will provide hot beverages\, a warm fire and lively Christmas music. Bring the family\, your singing voice\, and something to share for our potluck. This is the perfect time for fellowship during the winter holiday season with State Park Supporters and Friends!<br />\n<br />\nAnd if you are couragous\, bring your version of a Yule Log cake! If we get enough there might be a cont<span class="text_exposed_show" style="display: inline\; font-family: inherit\;">est!<br />\n<br />\nThe Friends of Schafer &amp\; Lake Sylvia State Parks (FOSLS) and State Park Staff<br />\nare working together to keep your parks open.<br />\nCome\, join us FOSLS!<br />\n<br />\nA Discover Pass for vehicles is required and available at the park.<br />\n<br />\nMore information 360 789 9953<br />\nPO Box 642\, Montesano\, WA 98563<br />\n<a href="https://www.facebook.com/FriendsOfSchaferLakeSylvia/" rel="nofollow" style="color: rgb(54\, 88\, 153)\; cursor: pointer\; text-decoration-line: none\; font-family: inherit\;"><span style="font-family: inherit\;">https://www.facebook.com/</span><wbr />FriendsOfSchaferLakeSylvia/</a></span></span></div>\n\n<div class="_1r51" style="line-height: 24px\; margin: 4px 12px 12px\; min-height: 24px\; font-family: Helvetica\, Arial\, sans-serif\; color: rgb(29\, 33\, 41)\; font-size: 12px\;">\n<ul class="uiList uiCollapsedList uiCollapsedListHidden _509- _4ki" id="u_jsonp_5_t" style="list-style-type: none\; margin: 0px\; padding: 0px\;">\n	<li style="border-width: 0px\; display: inline-block\; vertical-align: top\;"><a href="https://www.facebook.com/events/discovery/?acontext=%7B%22ref%22%3A44%2C%22unit_ref%22%3A%22related_events%22%2C%22source%22%3A1%2C%22action_history%22%3A%22%5B%7B%5C%22surface%5C%22%3A%5C%22permalink%5C%22%2C%5C%22mechanism%5C%22%3A%5C%22RHC%5C%22%2C%5C%22extra_data%5C%22%3A%5B%5D%7D%2C%7B%5C%22surface%5C%22%3A%5C%22permalink%5C%22%2C%5C%22mechanism%5C%22%3A%5C%22surface%5C%22%2C%5C%22extra_data%5C%22%3A%5B%5D%7D%2C%7B%5C%22surface%5C%22%3A%5C%22permalink%5C%22%2C%5C%22mechanism%5C%22%3A%5C%22event_information%5C%22%2C%5C%22extra_data%5C%22%3A%7B%5C%22tag%5C%22%3A%5C%22Kid+Friendly%5C%22%7D%7D%5D%22%2C%22has_source%22%3Atrue%7D&amp\;suggestion_token=%7B%22event_flags%22%3A%5B%22family_friendly%22%5D%7D" style="color: rgb(54\, 88\, 153)\; cursor: pointer\; text-decoration-line: none\; font-family: inherit\;"><span class="_47od" style="background-color: rgb(237\, 242\, 250)\; border-radius: 2px\; color: rgb(32\, 55\, 95)\; display: block\; height: 14px\; line-height: 14px\; margin: 0px 4px 4px 0px\; padding: 4px 6px\; position: relative\; font-family: inherit\;">Kid Friendly</span></a></li>\n</ul>\n</div>\n
LOCATION:Schafer State Park W 1365 Schafer Park Rd. Elma
UID:e.26.8361
SEQUENCE:3
DTSTAMP:20260425T163555Z
URL:https://chamber.graysharbor.org/events/details/yule-log-celebration-8361
END:VEVENT

END:VCALENDAR
